BEGIN:VCALENDAR
VERSION:2.0
PRODID:-//Vereinsring Obernau 1961 - ECPv6.15.12.2//NONSGML v1.0//EN
CALSCALE:GREGORIAN
METHOD:PUBLISH
X-ORIGINAL-URL:https://www.vereinsring-obernau.de
X-WR-CALDESC:Veranstaltungen für Vereinsring Obernau 1961
REFRESH-INTERVAL;VALUE=DURATION:PT1H
X-Robots-Tag:noindex
X-PUBLISHED-TTL:PT1H
BEGIN:VTIMEZONE
TZID:Europe/Berlin
BEGIN:DAYLIGHT
TZOFFSETFROM:+0100
TZOFFSETTO:+0200
TZNAME:CEST
DTSTART:20240331T010000
END:DAYLIGHT
BEGIN:STANDARD
TZOFFSETFROM:+0200
TZOFFSETTO:+0100
TZNAME:CET
DTSTART:20241027T010000
END:STANDARD
BEGIN:DAYLIGHT
TZOFFSETFROM:+0100
TZOFFSETTO:+0200
TZNAME:CEST
DTSTART:20250330T010000
END:DAYLIGHT
BEGIN:STANDARD
TZOFFSETFROM:+0200
TZOFFSETTO:+0100
TZNAME:CET
DTSTART:20251026T010000
END:STANDARD
BEGIN:DAYLIGHT
TZOFFSETFROM:+0100
TZOFFSETTO:+0200
TZNAME:CEST
DTSTART:20260329T010000
END:DAYLIGHT
BEGIN:STANDARD
TZOFFSETFROM:+0200
TZOFFSETTO:+0100
TZNAME:CET
DTSTART:20261025T010000
END:STANDARD
END:VTIMEZONE
BEGIN:VEVENT
DTSTART;TZID=Europe/Berlin:20250227T193000
DTEND;TZID=Europe/Berlin:20250227T193000
DTSTAMP:20260423T060506
CREATED:20250213T152156Z
LAST-MODIFIED:20250318T121654Z
UID:316-1740684600-1740684600@www.vereinsring-obernau.de
SUMMARY:22. Altweiberfasching
DESCRIPTION:22. Altweiberfasching in Obernau am 27.02.2025 um 19:30 Uhr (Einlass 18:30 Uhr) in der DJK-Halle am Heidig \nKartenvorbestellung:\nFrauenfasching@djk-obernau.de \nKartenverkauf am 09.02.2025 und 16.02.2025 in der Zeit von 10-12 Uhr in der DJK Gaststätte\, Heidigweg200 in Obernau \nAchtung:\nAn der Sitzung selbst ist keine Abendkasse!
URL:https://www.vereinsring-obernau.de/veranstaltung/22ter-altweiberfasching-djk-ttc/
LOCATION:DJK TTC Obernau Sporthalle\, Heidigweg 200\, Aschaffenburg\, Bayern\, 63743\, Germany
ATTACH;FMTTYPE=image/png:https://www.vereinsring-obernau.de/wp-content/uploads/2025/02/event_djk.png
ORGANIZER;CN="DJK-TTC-1950 e.V. Obernau":MAILTO:Fasching@djk-obernau.de
END:VEVENT
END:VCALENDAR