BEGIN:VCALENDAR
VERSION:2.0
PRODID:-//Vereinsring Obernau 1961 - ECPv6.15.12.2//NONSGML v1.0//EN
CALSCALE:GREGORIAN
METHOD:PUBLISH
X-ORIGINAL-URL:https://www.vereinsring-obernau.de
X-WR-CALDESC:Veranstaltungen für Vereinsring Obernau 1961
REFRESH-INTERVAL;VALUE=DURATION:PT1H
X-Robots-Tag:noindex
X-PUBLISHED-TTL:PT1H
BEGIN:VTIMEZONE
TZID:Europe/Berlin
BEGIN:DAYLIGHT
TZOFFSETFROM:+0100
TZOFFSETTO:+0200
TZNAME:CEST
DTSTART:20240331T010000
END:DAYLIGHT
BEGIN:STANDARD
TZOFFSETFROM:+0200
TZOFFSETTO:+0100
TZNAME:CET
DTSTART:20241027T010000
END:STANDARD
BEGIN:DAYLIGHT
TZOFFSETFROM:+0100
TZOFFSETTO:+0200
TZNAME:CEST
DTSTART:20250330T010000
END:DAYLIGHT
BEGIN:STANDARD
TZOFFSETFROM:+0200
TZOFFSETTO:+0100
TZNAME:CET
DTSTART:20251026T010000
END:STANDARD
BEGIN:DAYLIGHT
TZOFFSETFROM:+0100
TZOFFSETTO:+0200
TZNAME:CEST
DTSTART:20260329T010000
END:DAYLIGHT
BEGIN:STANDARD
TZOFFSETFROM:+0200
TZOFFSETTO:+0100
TZNAME:CET
DTSTART:20261025T010000
END:STANDARD
END:VTIMEZONE
BEGIN:VEVENT
DTSTART;TZID=Europe/Berlin:20250316T110000
DTEND;TZID=Europe/Berlin:20250316T110000
DTSTAMP:20260423T060602
CREATED:20250213T163418Z
LAST-MODIFIED:20250318T121727Z
UID:334-1742122800-1742122800@www.vereinsring-obernau.de
SUMMARY:Salvatoranstich und Lakefleischessen
DESCRIPTION:Genießen Sie das würzige Lakefleisch mit Pellikartoffeln und einem Krug Original Salvator-Bier aus München auf dem gemütlichen Wanderplatz des Wandervereines Edelweiß Obernau e. V. \nEs gibt selbstverständlich auch Pellkartoffel mit hausgemachten Quark. Außerdem Kaffee und selbstgemachten Kuchen der Wanderfrauen.
URL:https://www.vereinsring-obernau.de/veranstaltung/salvatoranstich-und-lakefleischessen/
LOCATION:Wanderheim\, Heidigweg 30\, Aschaffenburg\, Bayern\, 63743\, Germany
ATTACH;FMTTYPE=image/png:https://www.vereinsring-obernau.de/wp-content/uploads/2025/02/event_wanderverein.png
ORGANIZER;CN="Wanderverein 'Edelwei%C3%9F' e.V. Obernau":MAILTO:orth@edelweiss-obernau.de
END:VEVENT
END:VCALENDAR