BEGIN:VCALENDAR
VERSION:2.0
PRODID:-//Vereinsring Obernau 1961 - ECPv6.15.12.2//NONSGML v1.0//EN
CALSCALE:GREGORIAN
METHOD:PUBLISH
X-WR-CALNAME:Vereinsring Obernau 1961
X-ORIGINAL-URL:https://www.vereinsring-obernau.de
X-WR-CALDESC:Veranstaltungen für Vereinsring Obernau 1961
REFRESH-INTERVAL;VALUE=DURATION:PT1H
X-Robots-Tag:noindex
X-PUBLISHED-TTL:PT1H
BEGIN:VTIMEZONE
TZID:Europe/Berlin
BEGIN:DAYLIGHT
TZOFFSETFROM:+0100
TZOFFSETTO:+0200
TZNAME:CEST
DTSTART:20250330T010000
END:DAYLIGHT
BEGIN:STANDARD
TZOFFSETFROM:+0200
TZOFFSETTO:+0100
TZNAME:CET
DTSTART:20251026T010000
END:STANDARD
BEGIN:DAYLIGHT
TZOFFSETFROM:+0100
TZOFFSETTO:+0200
TZNAME:CEST
DTSTART:20260329T010000
END:DAYLIGHT
BEGIN:STANDARD
TZOFFSETFROM:+0200
TZOFFSETTO:+0100
TZNAME:CET
DTSTART:20261025T010000
END:STANDARD
BEGIN:DAYLIGHT
TZOFFSETFROM:+0100
TZOFFSETTO:+0200
TZNAME:CEST
DTSTART:20270328T010000
END:DAYLIGHT
BEGIN:STANDARD
TZOFFSETFROM:+0200
TZOFFSETTO:+0100
TZNAME:CET
DTSTART:20271031T010000
END:STANDARD
END:VTIMEZONE
BEGIN:VEVENT
DTSTART;TZID=Europe/Berlin:20260322T110000
DTEND;TZID=Europe/Berlin:20260322T170000
DTSTAMP:20260422T110030
CREATED:20251109T231146Z
LAST-MODIFIED:20251109T231329Z
UID:638-1774177200-1774198800@www.vereinsring-obernau.de
SUMMARY:Lakefleischessen und Salvatoranstich
DESCRIPTION:Mit dem süffigen SALVATOR Starkbier vom Fass und dem leckeren Lakefleisch\, roter Fleischwurst sowie Kräuterquark mit Kartoffeln.\nNatürlich auch mit Kaffee und den selbstgebackenen Kuchen der Wanderfrauen
URL:https://www.vereinsring-obernau.de/veranstaltung/lakefleischessen-und-salvatoranstich/
LOCATION:Wanderheim\, Heidigweg 30\, Aschaffenburg\, Bayern\, 63743\, Germany
ATTACH;FMTTYPE=image/jpeg:https://www.vereinsring-obernau.de/wp-content/uploads/2025/11/2026-Salvator-Plakat-1.jpg
ORGANIZER;CN="Wanderverein 'Edelwei%C3%9F' e.V. Obernau":MAILTO:orth@edelweiss-obernau.de
END:VEVENT
END:VCALENDAR