BEGIN:VCALENDAR
VERSION:2.0
PRODID:-//Vereinsring Obernau 1961 - ECPv6.15.12.2//NONSGML v1.0//EN
CALSCALE:GREGORIAN
METHOD:PUBLISH
X-ORIGINAL-URL:https://www.vereinsring-obernau.de
X-WR-CALDESC:Veranstaltungen für Vereinsring Obernau 1961
REFRESH-INTERVAL;VALUE=DURATION:PT1H
X-Robots-Tag:noindex
X-PUBLISHED-TTL:PT1H
BEGIN:VTIMEZONE
TZID:Europe/Berlin
BEGIN:DAYLIGHT
TZOFFSETFROM:+0100
TZOFFSETTO:+0200
TZNAME:CEST
DTSTART:20250330T010000
END:DAYLIGHT
BEGIN:STANDARD
TZOFFSETFROM:+0200
TZOFFSETTO:+0100
TZNAME:CET
DTSTART:20251026T010000
END:STANDARD
BEGIN:DAYLIGHT
TZOFFSETFROM:+0100
TZOFFSETTO:+0200
TZNAME:CEST
DTSTART:20260329T010000
END:DAYLIGHT
BEGIN:STANDARD
TZOFFSETFROM:+0200
TZOFFSETTO:+0100
TZNAME:CET
DTSTART:20261025T010000
END:STANDARD
BEGIN:DAYLIGHT
TZOFFSETFROM:+0100
TZOFFSETTO:+0200
TZNAME:CEST
DTSTART:20270328T010000
END:DAYLIGHT
BEGIN:STANDARD
TZOFFSETFROM:+0200
TZOFFSETTO:+0100
TZNAME:CET
DTSTART:20271031T010000
END:STANDARD
END:VTIMEZONE
BEGIN:VEVENT
DTSTART;TZID=Europe/Berlin:20260430T180000
DTEND;TZID=Europe/Berlin:20260430T180000
DTSTAMP:20260420T085301
CREATED:20251123T165823Z
LAST-MODIFIED:20251123T165823Z
UID:703-1777572000-1777572000@www.vereinsring-obernau.de
SUMMARY:Maifeier
DESCRIPTION:Maiansprache unter dem Maibaum
URL:https://www.vereinsring-obernau.de/veranstaltung/maifeier-2/
LOCATION:Mehrzweckhalle Obernau\, Bahnhofstr. 61\, Aschaffenburg\, Bayern\, 63743\, Germany
ATTACH;FMTTYPE=image/png:https://www.vereinsring-obernau.de/wp-content/uploads/2025/02/event_vereinsring.png
END:VEVENT
END:VCALENDAR