BEGIN:VCALENDAR
VERSION:2.0
PRODID:-//Vereinsring Obernau 1961 - ECPv6.15.12.2//NONSGML v1.0//EN
CALSCALE:GREGORIAN
METHOD:PUBLISH
X-ORIGINAL-URL:https://www.vereinsring-obernau.de
X-WR-CALDESC:Veranstaltungen für Vereinsring Obernau 1961
REFRESH-INTERVAL;VALUE=DURATION:PT1H
X-Robots-Tag:noindex
X-PUBLISHED-TTL:PT1H
BEGIN:VTIMEZONE
TZID:Europe/Berlin
BEGIN:DAYLIGHT
TZOFFSETFROM:+0100
TZOFFSETTO:+0200
TZNAME:CEST
DTSTART:20250330T010000
END:DAYLIGHT
BEGIN:STANDARD
TZOFFSETFROM:+0200
TZOFFSETTO:+0100
TZNAME:CET
DTSTART:20251026T010000
END:STANDARD
BEGIN:DAYLIGHT
TZOFFSETFROM:+0100
TZOFFSETTO:+0200
TZNAME:CEST
DTSTART:20260329T010000
END:DAYLIGHT
BEGIN:STANDARD
TZOFFSETFROM:+0200
TZOFFSETTO:+0100
TZNAME:CET
DTSTART:20261025T010000
END:STANDARD
BEGIN:DAYLIGHT
TZOFFSETFROM:+0100
TZOFFSETTO:+0200
TZNAME:CEST
DTSTART:20270328T010000
END:DAYLIGHT
BEGIN:STANDARD
TZOFFSETFROM:+0200
TZOFFSETTO:+0100
TZNAME:CET
DTSTART:20271031T010000
END:STANDARD
END:VTIMEZONE
BEGIN:VEVENT
DTSTART;TZID=Europe/Berlin:20260501T110000
DTEND;TZID=Europe/Berlin:20260501T210000
DTSTAMP:20260420T092416
CREATED:20260113T204718Z
LAST-MODIFIED:20260125T235714Z
UID:768-1777633200-1777669200@www.vereinsring-obernau.de
SUMMARY:Fisch und Wein
DESCRIPTION:  \n  \nDie Obernauer „Carnevalfreunde“ laden ein: \nFür den Gaumen:\n– Makrele frisch vom Holzkohlegrill\, lecker gewürzt\n– Garnelenteller\n– Frischfrikadellen\n– Bratwurst im Brötchen\n– Schafskäse vom Grill\n– Pommes\, Kartoffelsalat \nKaffee und Kuchen \nGegen den Durst:\n– Weiß- und Rotwein\n– Schlappeseppel Kellerbier vom Faß
URL:https://www.vereinsring-obernau.de/veranstaltung/fisch-und-wein-2026/
LOCATION:DJK TTC Obernau Sporthalle\, Heidigweg 200\, Aschaffenburg\, Bayern\, 63743\, Germany
ATTACH;FMTTYPE=image/png:https://www.vereinsring-obernau.de/wp-content/uploads/2025/02/event_djk.png
ORGANIZER;CN="DJK-TTC-1950 e.V. Obernau":MAILTO:Fasching@djk-obernau.de
END:VEVENT
END:VCALENDAR