BEGIN:VCALENDAR
VERSION:2.0
PRODID:-//Vereinsring Obernau 1961 - ECPv6.15.12.2//NONSGML v1.0//EN
CALSCALE:GREGORIAN
METHOD:PUBLISH
X-WR-CALNAME:Vereinsring Obernau 1961
X-ORIGINAL-URL:https://www.vereinsring-obernau.de
X-WR-CALDESC:Veranstaltungen für Vereinsring Obernau 1961
REFRESH-INTERVAL;VALUE=DURATION:PT1H
X-Robots-Tag:noindex
X-PUBLISHED-TTL:PT1H
BEGIN:VTIMEZONE
TZID:Europe/Berlin
BEGIN:DAYLIGHT
TZOFFSETFROM:+0100
TZOFFSETTO:+0200
TZNAME:CEST
DTSTART:20250330T010000
END:DAYLIGHT
BEGIN:STANDARD
TZOFFSETFROM:+0200
TZOFFSETTO:+0100
TZNAME:CET
DTSTART:20251026T010000
END:STANDARD
BEGIN:DAYLIGHT
TZOFFSETFROM:+0100
TZOFFSETTO:+0200
TZNAME:CEST
DTSTART:20260329T010000
END:DAYLIGHT
BEGIN:STANDARD
TZOFFSETFROM:+0200
TZOFFSETTO:+0100
TZNAME:CET
DTSTART:20261025T010000
END:STANDARD
BEGIN:DAYLIGHT
TZOFFSETFROM:+0100
TZOFFSETTO:+0200
TZNAME:CEST
DTSTART:20270328T010000
END:DAYLIGHT
BEGIN:STANDARD
TZOFFSETFROM:+0200
TZOFFSETTO:+0100
TZNAME:CET
DTSTART:20271031T010000
END:STANDARD
END:VTIMEZONE
BEGIN:VEVENT
DTSTART;TZID=Europe/Berlin:20260506T140000
DTEND;TZID=Europe/Berlin:20260506T160000
DTSTAMP:20260422T140411
CREATED:20260413T221344Z
LAST-MODIFIED:20260413T221354Z
UID:821-1778076000-1778083200@www.vereinsring-obernau.de
SUMMARY:Theater im Pfarrsaal am 06.05.26
DESCRIPTION:Die Seniorengruppe Obernau möchte alle recht herzlich einladen am 06. Mai um 14.00 Uhr zum Theater im Pfarrsaal. \n2 kleine Theaterstücke werden von der Theatergruppe Spätlese aufgeführt. Mit den Titeln „Wellness für die Ehe“ und „Herbert und die Frauen“ lässt sich schon viel Spaß dabei vermuten. Die Stücke sind von Regina Harlander.\nDer Vorverkauf läuft über die Bücherei zu den gewohnten Öffnungszeiten. \nDer Eintritt beträgt 8\,-€.
URL:https://www.vereinsring-obernau.de/veranstaltung/theater-im-pfarrsaal-am-06-05-26/
LOCATION:Pfarrsaal\, Hauptstr. 15\, Aschaffenburg\, 63743
ATTACH;FMTTYPE=image/png:https://www.vereinsring-obernau.de/wp-content/uploads/2025/05/Katholische-Pfarrgemeinde-St.-Peter-und-Paul.png
END:VEVENT
END:VCALENDAR