BEGIN:VCALENDAR
VERSION:2.0
PRODID:-//Vereinsring Obernau 1961 - ECPv6.15.12.2//NONSGML v1.0//EN
CALSCALE:GREGORIAN
METHOD:PUBLISH
X-ORIGINAL-URL:https://www.vereinsring-obernau.de
X-WR-CALDESC:Veranstaltungen für Vereinsring Obernau 1961
REFRESH-INTERVAL;VALUE=DURATION:PT1H
X-Robots-Tag:noindex
X-PUBLISHED-TTL:PT1H
BEGIN:VTIMEZONE
TZID:Europe/Berlin
BEGIN:DAYLIGHT
TZOFFSETFROM:+0100
TZOFFSETTO:+0200
TZNAME:CEST
DTSTART:20250330T010000
END:DAYLIGHT
BEGIN:STANDARD
TZOFFSETFROM:+0200
TZOFFSETTO:+0100
TZNAME:CET
DTSTART:20251026T010000
END:STANDARD
BEGIN:DAYLIGHT
TZOFFSETFROM:+0100
TZOFFSETTO:+0200
TZNAME:CEST
DTSTART:20260329T010000
END:DAYLIGHT
BEGIN:STANDARD
TZOFFSETFROM:+0200
TZOFFSETTO:+0100
TZNAME:CET
DTSTART:20261025T010000
END:STANDARD
BEGIN:DAYLIGHT
TZOFFSETFROM:+0100
TZOFFSETTO:+0200
TZNAME:CEST
DTSTART:20270328T010000
END:DAYLIGHT
BEGIN:STANDARD
TZOFFSETFROM:+0200
TZOFFSETTO:+0100
TZNAME:CET
DTSTART:20271031T010000
END:STANDARD
END:VTIMEZONE
BEGIN:VEVENT
DTSTART;TZID=Europe/Berlin:20260628T100000
DTEND;TZID=Europe/Berlin:20260628T100000
DTSTAMP:20260422T122702
CREATED:20251026T230738Z
LAST-MODIFIED:20251123T162143Z
UID:624-1782640800-1782640800@www.vereinsring-obernau.de
SUMMARY:Patrozinium
DESCRIPTION:10.00 Uhr feierlicher Gottesdienst mit musikalische Gestaltung durch die FGB und Happy Voices\, \nanschließender Begegnung auf dem Kirchplatz (bei schlechtem Wetter im Pfarrsaal) \nFür das leibliche Wohl ist mit Steaks\, Bratwurst und Pasta (von Pater Nicola) sowie Getränken bestens gesorgt.\nHerzliche Einladung hierzu
URL:https://www.vereinsring-obernau.de/veranstaltung/patrozinium-2/
LOCATION:Katholische Kirche\, Hauptstr. 38\, Aschaffenburg\, 63743\, Germany
ATTACH;FMTTYPE=image/png:https://www.vereinsring-obernau.de/wp-content/uploads/2025/05/Katholische-Pfarrgemeinde-St.-Peter-und-Paul.png
END:VEVENT
END:VCALENDAR