BEGIN:VCALENDAR
VERSION:2.0
PRODID:-//Vereinsring Obernau 1961 - ECPv6.15.12.2//NONSGML v1.0//EN
CALSCALE:GREGORIAN
METHOD:PUBLISH
X-WR-CALNAME:Vereinsring Obernau 1961
X-ORIGINAL-URL:https://www.vereinsring-obernau.de
X-WR-CALDESC:Veranstaltungen für Vereinsring Obernau 1961
REFRESH-INTERVAL;VALUE=DURATION:PT1H
X-Robots-Tag:noindex
X-PUBLISHED-TTL:PT1H
BEGIN:VTIMEZONE
TZID:Europe/Berlin
BEGIN:DAYLIGHT
TZOFFSETFROM:+0100
TZOFFSETTO:+0200
TZNAME:CEST
DTSTART:20250330T010000
END:DAYLIGHT
BEGIN:STANDARD
TZOFFSETFROM:+0200
TZOFFSETTO:+0100
TZNAME:CET
DTSTART:20251026T010000
END:STANDARD
BEGIN:DAYLIGHT
TZOFFSETFROM:+0100
TZOFFSETTO:+0200
TZNAME:CEST
DTSTART:20260329T010000
END:DAYLIGHT
BEGIN:STANDARD
TZOFFSETFROM:+0200
TZOFFSETTO:+0100
TZNAME:CET
DTSTART:20261025T010000
END:STANDARD
BEGIN:DAYLIGHT
TZOFFSETFROM:+0100
TZOFFSETTO:+0200
TZNAME:CEST
DTSTART:20270328T010000
END:DAYLIGHT
BEGIN:STANDARD
TZOFFSETFROM:+0200
TZOFFSETTO:+0100
TZNAME:CET
DTSTART:20271031T010000
END:STANDARD
END:VTIMEZONE
BEGIN:VEVENT
DTSTART;TZID=Europe/Berlin:20260912T103000
DTEND;TZID=Europe/Berlin:20260912T210000
DTSTAMP:20260422T173837
CREATED:20260318T224029Z
LAST-MODIFIED:20260318T224029Z
UID:810-1789209000-1789246800@www.vereinsring-obernau.de
SUMMARY:12. Main Echo Firmen Fußball Cup
DESCRIPTION:Main-Echo Firmen-Cup 2026\nDer 12. Main-Echo Firmen-Fußball-Cup findet am Samstag\, den 12. September 2026\, ab 10:30 Uhr auf dem Sportgelände der Teutonia Obernau statt. Das Turnier bietet nicht nur spannende Fußballspiele\, sondern auch viele Attraktionen am Spielfeldrand für Klein und Groß. Die Essens- und Getränkeverpflegung wird von der Teutonia Obernau übernomm
URL:https://www.vereinsring-obernau.de/veranstaltung/12-main-echo-firmen-fussball-cup/
LOCATION:Sportlgelände FSV Teutonia Obernau\, Bollenwaldstr. 100\, Aschaffenburg-Obernau\, 63743\, Germany
ATTACH;FMTTYPE=image/png:https://www.vereinsring-obernau.de/wp-content/uploads/2025/05/teutonia_veranstalltung.png
END:VEVENT
END:VCALENDAR