BEGIN:VCALENDAR
VERSION:2.0
PRODID:-//Vereinsring Obernau 1961 - ECPv6.15.12.2//NONSGML v1.0//EN
CALSCALE:GREGORIAN
METHOD:PUBLISH
X-ORIGINAL-URL:https://www.vereinsring-obernau.de
X-WR-CALDESC:Veranstaltungen für Vereinsring Obernau 1961
REFRESH-INTERVAL;VALUE=DURATION:PT1H
X-Robots-Tag:noindex
X-PUBLISHED-TTL:PT1H
BEGIN:VTIMEZONE
TZID:Europe/Berlin
BEGIN:DAYLIGHT
TZOFFSETFROM:+0100
TZOFFSETTO:+0200
TZNAME:CEST
DTSTART:20240331T010000
END:DAYLIGHT
BEGIN:STANDARD
TZOFFSETFROM:+0200
TZOFFSETTO:+0100
TZNAME:CET
DTSTART:20241027T010000
END:STANDARD
BEGIN:DAYLIGHT
TZOFFSETFROM:+0100
TZOFFSETTO:+0200
TZNAME:CEST
DTSTART:20250330T010000
END:DAYLIGHT
BEGIN:STANDARD
TZOFFSETFROM:+0200
TZOFFSETTO:+0100
TZNAME:CET
DTSTART:20251026T010000
END:STANDARD
BEGIN:DAYLIGHT
TZOFFSETFROM:+0100
TZOFFSETTO:+0200
TZNAME:CEST
DTSTART:20260329T010000
END:DAYLIGHT
BEGIN:STANDARD
TZOFFSETFROM:+0200
TZOFFSETTO:+0100
TZNAME:CET
DTSTART:20261025T010000
END:STANDARD
BEGIN:DAYLIGHT
TZOFFSETFROM:+0100
TZOFFSETTO:+0200
TZNAME:CEST
DTSTART:20270328T010000
END:DAYLIGHT
BEGIN:STANDARD
TZOFFSETFROM:+0200
TZOFFSETTO:+0100
TZNAME:CET
DTSTART:20271031T010000
END:STANDARD
END:VTIMEZONE
BEGIN:VEVENT
DTSTART;TZID=Europe/Berlin:20260418T120000
DTEND;TZID=Europe/Berlin:20260418T120000
DTSTAMP:20260420T084458
CREATED:20260309T225633Z
LAST-MODIFIED:20260309T225940Z
UID:801-1776513600-1776513600@www.vereinsring-obernau.de
SUMMARY:Kickstarterfest ab 14:00 mit Kinderbelustigung
DESCRIPTION:Motorrad saisoneröffnung\nAb 14:00 Uhr Familiennachmittag mit Kinderschminken und mehr.\nKaffee und Kuchen\nBier vom Fass\nAbends leckeres aus der MCO Küche…
URL:https://www.vereinsring-obernau.de/veranstaltung/kickstarterfest-ab-1400-mit-kinderbelustigung/
LOCATION:Vereinsheim MCO\, Mainfeldstraße 100\, Aschaffenburg-Obernau\, 63743\, Germany
ATTACH;FMTTYPE=image/png:https://www.vereinsring-obernau.de/wp-content/uploads/2025/02/event_mco.png
END:VEVENT
BEGIN:VEVENT
DTSTART;TZID=Europe/Berlin:20260415T143000
DTEND;TZID=Europe/Berlin:20260415T170000
DTSTAMP:20260420T084458
CREATED:20251123T163254Z
LAST-MODIFIED:20251123T163311Z
UID:676-1776263400-1776272400@www.vereinsring-obernau.de
SUMMARY:Seniorennachmittag
DESCRIPTION:Herzliche Einladung zu unserem Seniorennachmittag im Pfarrsaal. Dieses mal hält Frau Saskia Vogel einen Vortrag über die Kraft der ätherischen Öle.\nEs gibt wie gewohnt Kaffee und Kuchen und die Möglichkeit für ein gutes Gespräch.
URL:https://www.vereinsring-obernau.de/veranstaltung/seniorennachmittag-2/
LOCATION:Pfarrsaal\, Hauptstr. 15\, Aschaffenburg\, 63743
ATTACH;FMTTYPE=image/png:https://www.vereinsring-obernau.de/wp-content/uploads/2025/05/Katholische-Pfarrgemeinde-St.-Peter-und-Paul.png
END:VEVENT
BEGIN:VEVENT
DTSTART;TZID=Europe/Berlin:20260403T100000
DTEND;TZID=Europe/Berlin:20260403T160000
DTSTAMP:20260420T084458
CREATED:20251026T230257Z
LAST-MODIFIED:20251026T230257Z
UID:617-1775210400-1775232000@www.vereinsring-obernau.de
SUMMARY:Karfreitags-Fischessen 2026
DESCRIPTION:Auch in diesem Jahr findet wieder das traditionelle Fischessen anlässlich des Karfreitags im (bei Bedarf) beheizten Festzelt am TVO Vereinsheim statt.\nEs gibt wie immer eine reiche Auswahl an Fischgerichten für jeden Geschmack\, sowie Kaffee und Kuchen. Dazu natürlich alles was das Herz an Trinkbarem begehrt…\nDer Spielmanns- und Fanfarenzug TV Obernau freut sich auf euer Kommen!
URL:https://www.vereinsring-obernau.de/veranstaltung/karfreitags-fischessen-2026/
LOCATION:TV Obernau 1900 e.V.\, Heidigweg\, Aschaffenburg-Obernau\, 63743\, Germany
ATTACH;FMTTYPE=image/jpeg:https://www.vereinsring-obernau.de/wp-content/uploads/2025/10/Karfreitags-Fischessen-2026-scaled.jpg
END:VEVENT
BEGIN:VEVENT
DTSTART;TZID=Europe/Berlin:20260328T193000
DTEND;TZID=Europe/Berlin:20260328T220000
DTSTAMP:20260420T084458
CREATED:20251208T231423Z
LAST-MODIFIED:20251208T231423Z
UID:732-1774726200-1774735200@www.vereinsring-obernau.de
SUMMARY:Frühjahrskonzert Musikverein Melomania Obernau im Stadttheater Aschaffenburg
DESCRIPTION:Auftritt der Jugendblaskapelle Obernau-Gailbach (JOGA) unter Leitung von Karin Sebesta\nAuftritt der Blaskapelle Melomania Obernau unter Leitung Dirigent Horst Grimm und Florian Hört\nHorst Grimm wird nach über 40 Jahren seiner erfolgreichen Tätigkeiten an den Dirigenten Florian Hört übergeben
URL:https://www.vereinsring-obernau.de/veranstaltung/fruehjahrskonzert-musikverein-melomania-obernau-im-stadttheater-aschaffenburg/
LOCATION:Stadttheater Aschaffenburg\, Schloßgasse 8\, Aschaffenburg\, 63743\, Germany
ATTACH;FMTTYPE=image/png:https://www.vereinsring-obernau.de/wp-content/uploads/2025/02/event_melomania.png
END:VEVENT
BEGIN:VEVENT
DTSTART;TZID=Europe/Berlin:20260322T110000
DTEND;TZID=Europe/Berlin:20260322T170000
DTSTAMP:20260420T084458
CREATED:20251109T231146Z
LAST-MODIFIED:20251109T231329Z
UID:638-1774177200-1774198800@www.vereinsring-obernau.de
SUMMARY:Lakefleischessen und Salvatoranstich
DESCRIPTION:Mit dem süffigen SALVATOR Starkbier vom Fass und dem leckeren Lakefleisch\, roter Fleischwurst sowie Kräuterquark mit Kartoffeln.\nNatürlich auch mit Kaffee und den selbstgebackenen Kuchen der Wanderfrauen
URL:https://www.vereinsring-obernau.de/veranstaltung/lakefleischessen-und-salvatoranstich/
LOCATION:Wanderheim\, Heidigweg 30\, Aschaffenburg\, Bayern\, 63743\, Germany
ATTACH;FMTTYPE=image/jpeg:https://www.vereinsring-obernau.de/wp-content/uploads/2025/11/2026-Salvator-Plakat-1.jpg
ORGANIZER;CN="Wanderverein 'Edelwei%C3%9F' e.V. Obernau":MAILTO:orth@edelweiss-obernau.de
END:VEVENT
BEGIN:VEVENT
DTSTART;TZID=Europe/Berlin:20260320T190000
DTEND;TZID=Europe/Berlin:20260320T190000
DTSTAMP:20260420T084458
CREATED:20260222T220907Z
LAST-MODIFIED:20260222T221008Z
UID:796-1774033200-1774033200@www.vereinsring-obernau.de
SUMMARY:Vortrag Peter Spielmann - Der Mittlere Osten Wiege der Kultur und zugleich ein Pulverfass
DESCRIPTION:Herr Peter Spielmann OStR a.D. berichtet von den persönlichen Begegnungen im Libanon\, Syrien und dem Irak. Sowie der Geschichte und dem Leben in Armut.\nDie Bücherei Obernau lädt hierzu recht herzlich ein.
URL:https://www.vereinsring-obernau.de/veranstaltung/vortrag-peter-spielmann-der-mittlere-osten-wiege-der-kultur-und-zugleich-ein-pulverfass/
LOCATION:Pfarrsaal\, Hauptstr. 15\, Aschaffenburg\, 63743
ATTACH;FMTTYPE=image/png:https://www.vereinsring-obernau.de/wp-content/uploads/2025/05/Katholische-Pfarrgemeinde-St.-Peter-und-Paul.png
END:VEVENT
BEGIN:VEVENT
DTSTART;TZID=Europe/Berlin:20260318T133000
DTEND;TZID=Europe/Berlin:20260318T170000
DTSTAMP:20260420T084458
CREATED:20251123T163102Z
LAST-MODIFIED:20251123T163102Z
UID:673-1773840600-1773853200@www.vereinsring-obernau.de
SUMMARY:Seniorenfahrt nach Großheubach
DESCRIPTION:Herzliche Einladung zu unserer Seniorenfahrt zu Repp´s Ei nach Großheubach mit Besichtigung der Eierfärberei. Kurz vor Ostern passt das perfekt. Es gibt dort Kaffee und Kuchen und jeder hat die Gelegenheit anschließend dort einzukaufen. \nBusfahrt nach Großheubach\nOrffstr. 2 a
URL:https://www.vereinsring-obernau.de/veranstaltung/seniorenfahrt-nach-grossheubach/
ATTACH;FMTTYPE=image/png:https://www.vereinsring-obernau.de/wp-content/uploads/2025/05/Katholische-Pfarrgemeinde-St.-Peter-und-Paul.png
END:VEVENT
BEGIN:VEVENT
DTSTART;TZID=Europe/Berlin:20260315T180000
DTEND;TZID=Europe/Berlin:20260315T180000
DTSTAMP:20260420T084458
CREATED:20251123T170701Z
LAST-MODIFIED:20251123T170701Z
UID:710-1773597600-1773597600@www.vereinsring-obernau.de
SUMMARY:Geistliche Abendmusik
DESCRIPTION:Klezmer und andere jüdische Musik
URL:https://www.vereinsring-obernau.de/veranstaltung/geistliche-abendmusik/
LOCATION:St.Matthäuskirche\, Matthäusstraße 10\, Aschaffenburg\, 63743\, Germany
ATTACH;FMTTYPE=image/png:https://www.vereinsring-obernau.de/wp-content/uploads/2025/06/Matthaeus_ver.png
END:VEVENT
BEGIN:VEVENT
DTSTART;TZID=Europe/Berlin:20260315T100000
DTEND;TZID=Europe/Berlin:20260315T100000
DTSTAMP:20260420T084458
CREATED:20260113T202217Z
LAST-MODIFIED:20260113T202358Z
UID:747-1773568800-1773568800@www.vereinsring-obernau.de
SUMMARY:Misereor-Fastenessen
DESCRIPTION:  \nUm 10.00 Uhr beginnt es mit einer Heiligen Messe\nanschließend Fastenessen im Pfarrsaal\, Hauptstraße 38\, in Obernau.\nWir bieten euch Eintopf oder Penne Mediterraneo an. Im Anschluss gibt es Kaffee und Kuchen\,\ngerne auch zum mitnehmen. Hierzu möchten wir Sie herzlichst einladen.
URL:https://www.vereinsring-obernau.de/veranstaltung/misereor-fastenessen/
LOCATION:Pfarrsaal\, Hauptstr. 15\, Aschaffenburg\, 63743
ATTACH;FMTTYPE=image/png:https://www.vereinsring-obernau.de/wp-content/uploads/2025/05/Katholische-Pfarrgemeinde-St.-Peter-und-Paul.png
END:VEVENT
BEGIN:VEVENT
DTSTART;TZID=Europe/Berlin:20260314T090000
DTEND;TZID=Europe/Berlin:20260314T090000
DTSTAMP:20260420T084458
CREATED:20251123T170120Z
LAST-MODIFIED:20251123T170120Z
UID:707-1773478800-1773478800@www.vereinsring-obernau.de
SUMMARY:Aktion Saubere Landstraße
DESCRIPTION:Aktion Saubere Landschaft
URL:https://www.vereinsring-obernau.de/veranstaltung/aktion-saubere-landstrasse/
LOCATION:Altes Rathaus Obernau\, Hauptstraße 21\, Aschaffenburg\, Bayern\, 63743\, Germany
ATTACH;FMTTYPE=image/png:https://www.vereinsring-obernau.de/wp-content/uploads/2025/02/event_vereinsring.png
END:VEVENT
BEGIN:VEVENT
DTSTART;TZID=Europe/Berlin:20260214T190000
DTEND;TZID=Europe/Berlin:20260214T190000
DTSTAMP:20260420T084458
CREATED:20251109T232727Z
LAST-MODIFIED:20251109T232927Z
UID:649-1771095600-1771095600@www.vereinsring-obernau.de
SUMMARY:Rockfasching
DESCRIPTION:Rock und Fachingsmusik der letzten 4 Jahrzehnte
URL:https://www.vereinsring-obernau.de/veranstaltung/rockfasching/
LOCATION:Vereinsheim MCO\, Mainfeldstraße 100\, Aschaffenburg-Obernau\, 63743\, Germany
ATTACH;FMTTYPE=image/png:https://www.vereinsring-obernau.de/wp-content/uploads/2025/02/event_mco.png
END:VEVENT
BEGIN:VEVENT
DTSTART;TZID=Europe/Berlin:20260212T193000
DTEND;TZID=Europe/Berlin:20260212T193000
DTSTAMP:20260420T084458
CREATED:20260113T204359Z
LAST-MODIFIED:20260125T235204Z
UID:764-1770924600-1770924600@www.vereinsring-obernau.de
SUMMARY:23. Altweiberfasching
DESCRIPTION:23. Altweiberfasching\nin Obernau am 12.02.2026 um 19.30 Uhr in der DJK-Halle „Am Heidig“ in Obernau \nEinlass: 18.30 Uhr \nKartenvorbestellung:\nFrauenfasching@djk-obernau.de \nKartenverkauf am 25.01.2026 und 01.02.2026 in der Zeit von 10 – 12 Uhr\nin der DJK- Gaststätte\, Heidigweg 200 in Obernau \nAchtung: An der Sitzung selbst ist keine Abendkasse
URL:https://www.vereinsring-obernau.de/veranstaltung/23-altweiberfasching/
LOCATION:DJK TTC Obernau Sporthalle\, Heidigweg 200\, Aschaffenburg\, Bayern\, 63743\, Germany
ATTACH;FMTTYPE=image/png:https://www.vereinsring-obernau.de/wp-content/uploads/2025/02/event_djk.png
ORGANIZER;CN="DJK-TTC-1950 e.V. Obernau":MAILTO:Fasching@djk-obernau.de
END:VEVENT
BEGIN:VEVENT
DTSTART;TZID=Europe/Berlin:20260211T143000
DTEND;TZID=Europe/Berlin:20260211T173000
DTSTAMP:20260420T084458
CREATED:20251123T162654Z
LAST-MODIFIED:20251123T162654Z
UID:670-1770820200-1770831000@www.vereinsring-obernau.de
SUMMARY:Faschingsfeier der Senioren
DESCRIPTION:Herzlich laden wir unsere Senioren zu einer Faschingsfeier in den Pfarrsaal ein. Rita Kunkel\, Bernadette Radlböck\, Gabriel Autz\, die Kindergartenkinder und am Keyboard Karl Michel tragen zur Unterhaltung bei. Da kann man nur „Obernau\, Helau“ rufen
URL:https://www.vereinsring-obernau.de/veranstaltung/faschingsfeier-der-senioren/
LOCATION:Pfarrsaal\, Hauptstr. 15\, Aschaffenburg\, 63743
ATTACH;FMTTYPE=image/png:https://www.vereinsring-obernau.de/wp-content/uploads/2025/05/Katholische-Pfarrgemeinde-St.-Peter-und-Paul.png
END:VEVENT
BEGIN:VEVENT
DTSTART;TZID=Europe/Berlin:20260207T135900
DTEND;TZID=Europe/Berlin:20260207T180100
DTSTAMP:20260420T084458
CREATED:20260125T233907Z
LAST-MODIFIED:20260126T222429Z
UID:773-1770472740-1770487260@www.vereinsring-obernau.de
SUMMARY:Kinderfasching
DESCRIPTION:Faschingsveranstaltung für jung und alt!
URL:https://www.vereinsring-obernau.de/veranstaltung/kinderfasching-2026/
LOCATION:Mehrzweckhalle Obernau\, Bahnhofstr. 61\, Aschaffenburg\, Bayern\, 63743\, Germany
ATTACH;FMTTYPE=image/png:https://www.vereinsring-obernau.de/wp-content/uploads/2025/02/event_tv-obernau.png
END:VEVENT
BEGIN:VEVENT
DTSTART;TZID=Europe/Berlin:20260131T193300
DTEND;TZID=Europe/Berlin:20260131T193300
DTSTAMP:20260420T084458
CREATED:20260113T203934Z
LAST-MODIFIED:20260113T203934Z
UID:762-1769887980-1769887980@www.vereinsring-obernau.de
SUMMARY:57. Faschingssitzung
DESCRIPTION:die DJK TTC Obernau 1950 e.V. lädt ein zur\n57. Faschingssitzung\nam 30.01.2026 und\nam 31.01.2026\nin der DJK Obernau Sporthalle\nHeidigweg 200 \nBeginn:19.33 Uhr\nEinlass: 18.30 Uhr \nKartenvorverkauf:\nFasching@djk-obernau.de\noder 01705943887
URL:https://www.vereinsring-obernau.de/veranstaltung/57-faschingssitzung-tag2/
LOCATION:DJK TTC Obernau Sporthalle\, Heidigweg 200\, Aschaffenburg\, Bayern\, 63743\, Germany
ATTACH;FMTTYPE=image/png:https://www.vereinsring-obernau.de/wp-content/uploads/2025/02/event_djk.png
ORGANIZER;CN="DJK-TTC-1950 e.V. Obernau":MAILTO:Fasching@djk-obernau.de
END:VEVENT
BEGIN:VEVENT
DTSTART;TZID=Europe/Berlin:20260130T193300
DTEND;TZID=Europe/Berlin:20260130T193300
DTSTAMP:20260420T084458
CREATED:20260113T203744Z
LAST-MODIFIED:20260113T203744Z
UID:759-1769801580-1769801580@www.vereinsring-obernau.de
SUMMARY:57. Faschingssitzung
DESCRIPTION:die DJK TTC Obernau 1950 e.V. lädt ein zur\n57. Faschingssitzung\nam 30.01.2026 und\nam 31.01.2026\nin der DJK Obernau Sporthalle\nHeidigweg 200 \nBeginn:19.33 Uhr\nEinlass: 18.30 Uhr \nKartenvorverkauf:\nFasching@djk-obernau.de\noder 01705943887
URL:https://www.vereinsring-obernau.de/veranstaltung/57-faschingssitzung/
LOCATION:DJK TTC Obernau Sporthalle\, Heidigweg 200\, Aschaffenburg\, Bayern\, 63743\, Germany
ATTACH;FMTTYPE=image/png:https://www.vereinsring-obernau.de/wp-content/uploads/2025/02/event_djk.png
ORGANIZER;CN="DJK-TTC-1950 e.V. Obernau":MAILTO:Fasching@djk-obernau.de
END:VEVENT
BEGIN:VEVENT
DTSTART;TZID=Europe/Berlin:20260117T200000
DTEND;TZID=Europe/Berlin:20260117T200000
DTSTAMP:20260420T084458
CREATED:20251216T222233Z
LAST-MODIFIED:20251216T222239Z
UID:744-1768680000-1768680000@www.vereinsring-obernau.de
SUMMARY:CANDLELIGHT-BALL
DESCRIPTION:Die DJK Tanzsportabteilung lädt ein zum \n38. Candlelight-Ball \nin der DJK Sporthalle „Am Heidig“ \nin Aschaffenburg-Obernau\nHeidigweg 200 \nBeginn: 20.00 Uhr\nEinlass: 19.30 Uhr \nLive Tanzmusik gespielt von „René Winter“
URL:https://www.vereinsring-obernau.de/veranstaltung/candlelight-ball/
LOCATION:DJK TTC Obernau Sporthalle\, Heidigweg 200\, Aschaffenburg\, Bayern\, 63743\, Germany
ATTACH;FMTTYPE=image/png:https://www.vereinsring-obernau.de/wp-content/uploads/2025/02/event_djk.png
ORGANIZER;CN="DJK-TTC-1950 e.V. Obernau":MAILTO:Fasching@djk-obernau.de
END:VEVENT
BEGIN:VEVENT
DTSTART;TZID=Europe/Berlin:20260114T143000
DTEND;TZID=Europe/Berlin:20260114T170000
DTSTAMP:20260420T084458
CREATED:20251123T162412Z
LAST-MODIFIED:20251123T162412Z
UID:667-1768401000-1768410000@www.vereinsring-obernau.de
SUMMARY:Seniorennachmittag
DESCRIPTION:Wir laden alle Senioren herzlich zu einem Vortrag der Malteser über das Thema: „Schlaganfallprävension“ ein. Außerdem bieten wir Kaffee und Kuchen und Getränken an.\nHerzliche Einladung vom Seniorenteam
URL:https://www.vereinsring-obernau.de/veranstaltung/seniorennachmittag/
LOCATION:Pfarrsaal\, Hauptstr. 15\, Aschaffenburg\, 63743
ATTACH;FMTTYPE=image/png:https://www.vereinsring-obernau.de/wp-content/uploads/2025/05/Katholische-Pfarrgemeinde-St.-Peter-und-Paul.png
END:VEVENT
BEGIN:VEVENT
DTSTART;TZID=Europe/Berlin:20260109T180000
DTEND;TZID=Europe/Berlin:20260109T180000
DTSTAMP:20260420T084458
CREATED:20251123T165513Z
LAST-MODIFIED:20251123T165513Z
UID:700-1767981600-1767981600@www.vereinsring-obernau.de
SUMMARY:Neujahrsempfang des Vereinsrings
DESCRIPTION:Ökumenischer Gottesdienst in St.Peter und Paul und anschließend Begegnung im Pfarrsaal
URL:https://www.vereinsring-obernau.de/veranstaltung/neujahrsempfang-des-vereinsrings/
LOCATION:Katholische Kirche\, Hauptstr. 38\, Aschaffenburg\, 63743\, Germany
ATTACH;FMTTYPE=image/png:https://www.vereinsring-obernau.de/wp-content/uploads/2025/02/fav_vereinsring_270px.png
END:VEVENT
BEGIN:VEVENT
DTSTART;TZID=Europe/Berlin:20251226T100000
DTEND;TZID=Europe/Berlin:20251226T100000
DTSTAMP:20260420T084458
CREATED:20250214T095922Z
LAST-MODIFIED:20250318T121527Z
UID:413-1766743200-1766743200@www.vereinsring-obernau.de
SUMMARY:Musikalischer Weihnachtsfrühschoppen
DESCRIPTION:Weihnachtsweisen und böhmische Blasmusik zum Frühschoppen am 2. Weihnachtsfeiertag. \nEs spielt die Blaskapelle des Musikverein Melomania Obernau unter Leitung Ihres Dirigenten Horst Grimm. \nWir freuen uns auf viele Zuhörer und laden herzlich zum Frühschoppenbesuch in unser Vereinsheim ein.
URL:https://www.vereinsring-obernau.de/veranstaltung/musikalischer-weihnachtsfruehschoppen/
LOCATION:Vereinsheim in der Schulgasse 2\, Schulgasse 2\, Aschaffenburg\, Bayern\, 63743\, Germany
ATTACH;FMTTYPE=image/png:https://www.vereinsring-obernau.de/wp-content/uploads/2025/02/event_melomania.png
END:VEVENT
BEGIN:VEVENT
DTSTART;TZID=Europe/Berlin:20251207T170000
DTEND;TZID=Europe/Berlin:20251207T183000
DTSTAMP:20260420T084458
CREATED:20251026T231156Z
LAST-MODIFIED:20251026T231248Z
UID:629-1765126800-1765132200@www.vereinsring-obernau.de
SUMMARY:Adventskonzert
DESCRIPTION:Die Pfarrei St. Peter und Paul veranstaltet in der Kirche ein Adventskonzert mit Darbietungen von musiktreibenden Vereinen aus dem Ort und ein paar besinnlichen Texten. Anschließend ist eine Begegnung an der Feuerstelle mit Bratwurst\, Glühwein und guten Gesprächen auf dem Kirchplatz.\nHerzliche Einladung dazu
URL:https://www.vereinsring-obernau.de/veranstaltung/adventskonzert/
LOCATION:Katholische Kirche\, Hauptstr. 38\, Aschaffenburg\, 63743\, Germany
ATTACH;FMTTYPE=image/png:https://www.vereinsring-obernau.de/wp-content/uploads/2025/05/Katholische-Pfarrgemeinde-St.-Peter-und-Paul.png
END:VEVENT
BEGIN:VEVENT
DTSTART;TZID=Europe/Berlin:20251207T100000
DTEND;TZID=Europe/Berlin:20251207T111500
DTSTAMP:20260420T084458
CREATED:20250214T095722Z
LAST-MODIFIED:20250318T121505Z
UID:411-1765101600-1765106100@www.vereinsring-obernau.de
SUMMARY:Liederkranz Gailbach
DESCRIPTION:Gesangsdarbietung des Liederkranz Gailbach \nKontakt:\nThomas Wesser
URL:https://www.vereinsring-obernau.de/veranstaltung/liederkranz-gailbach-2/
LOCATION:Bernhard-Junker-Haus\, Neuhofstr. 11\, Aschaffenburg\, Bayern\, 63743\, Germany
ATTACH;FMTTYPE=image/png:https://www.vereinsring-obernau.de/wp-content/uploads/2025/02/event_bernhard-junker-haus.png
END:VEVENT
BEGIN:VEVENT
DTSTART;TZID=Europe/Berlin:20251129T140000
DTEND;TZID=Europe/Berlin:20251129T183000
DTSTAMP:20260420T084458
CREATED:20250507T193843Z
LAST-MODIFIED:20250507T193843Z
UID:560-1764424800-1764441000@www.vereinsring-obernau.de
SUMMARY:Adventsmarkt
DESCRIPTION:Auf dem Gelände des Kinderhauses laden wir zum Obernauer Adventsmarkt ein. Vorweihnachtliches Treiben\, bei Punsch\, Waffeln\, Kuchen und anderen Köstlichkeiten. Verschiedene Aussteller präsentieren ihre selbst hergestellten Produkte. Alle\, die ein wenig adventliches Flair erleben wollen\, sind herzlich willkommen.
URL:https://www.vereinsring-obernau.de/veranstaltung/adventsmarkt/
LOCATION:Kath. Kinderhaus St. Peter Paul\, Mozartstraße 5\, Aschaffenburg Obernau\, 63743\, Germany
ATTACH;FMTTYPE=image/png:https://www.vereinsring-obernau.de/wp-content/uploads/2025/05/Kath.-Kinderhaus-St.-Peter-Paul__.png
END:VEVENT
BEGIN:VEVENT
DTSTART;TZID=Europe/Berlin:20251122T180000
DTEND;TZID=Europe/Berlin:20251122T180000
DTSTAMP:20260420T084458
CREATED:20250214T095603Z
LAST-MODIFIED:20250318T113237Z
UID:409-1763834400-1763834400@www.vereinsring-obernau.de
SUMMARY:Après Ski Party Melomania Obernau
DESCRIPTION:Wir freuen uns viele Partygäste im Hof des Vereinsheims unseres Musikvereins begrüßen zu dürfen. \nGenießt an den Feuertonnen nicht nur die heißen Getränke\, sondern habt Spaß an ebenso heißen Rhytmen!
URL:https://www.vereinsring-obernau.de/veranstaltung/apres-ski-party-melomania-obernau/
LOCATION:Vereinsheim in der Schulgasse 2\, Schulgasse 2\, Aschaffenburg\, Bayern\, 63743\, Germany
ATTACH;FMTTYPE=image/png:https://www.vereinsring-obernau.de/wp-content/uploads/2025/02/event_melomania.png
END:VEVENT
BEGIN:VEVENT
DTSTART;TZID=Europe/Berlin:20251115T150000
DTEND;TZID=Europe/Berlin:20251115T210000
DTSTAMP:20260420T084458
CREATED:20250214T095429Z
LAST-MODIFIED:20250318T121443Z
UID:407-1763218800-1763240400@www.vereinsring-obernau.de
SUMMARY:Lichterglanz am Heidig
DESCRIPTION:Die OCF-Garde der Obernauer Carneval Freunde laden ein zum „Lichterglanz Am Heidig“ auf das Gelände der DJK TTC Obernau 1950 e.V. \nMit heißen Getränken und stimmungsvoller Beleuchtung freuen wir uns Groß und Klein begrüßen zu dürfen.
URL:https://www.vereinsring-obernau.de/veranstaltung/lichterglanz-am-heidig/
LOCATION:DJK TTC Obernau Sporthalle\, Heidigweg 200\, Aschaffenburg\, Bayern\, 63743\, Germany
ATTACH;FMTTYPE=image/png:https://www.vereinsring-obernau.de/wp-content/uploads/2025/02/event_djk.png
ORGANIZER;CN="DJK-TTC-1950 e.V. Obernau":MAILTO:Fasching@djk-obernau.de
END:VEVENT
BEGIN:VEVENT
DTSTART;TZID=Europe/Berlin:20251114T170000
DTEND;TZID=Europe/Berlin:20251114T180000
DTSTAMP:20260420T084458
CREATED:20251015T200401Z
LAST-MODIFIED:20251109T230443Z
UID:610-1763139600-1763143200@www.vereinsring-obernau.de
SUMMARY:Klang der Stille
DESCRIPTION:Gemeinschaftsprojekt der Chöre Cantiamo Eisenbach\, Harmonie Obernau und Liederkranz Feldkahl \n„Vielleicht tut es gerade gut einmal durchzuatmen und sich von neuen Klängen tragen zu lassen.\nWir laden Euch herzlich ein zu einer Stunde voller Begegnung\, Ruhe und einer ganz eigenen berührenden Klangwelt.\nEin Gemeinschaftsprojekt der Chöre Cantiamo Eisenbach\, Harmonie Obernau und Liederkranz Feldkahl.“
URL:https://www.vereinsring-obernau.de/veranstaltung/klang-der-stille/
LOCATION:Katholische Pfarrkirche St. Peter und Paul\, Hauptstraße 38\, Aschaffenburg-Obernau\, 63743\, Germany
ATTACH;FMTTYPE=application/pdf:https://www.vereinsring-obernau.de/wp-content/uploads/2025/10/Plakat-Vocana.pdf
END:VEVENT
BEGIN:VEVENT
DTSTART;TZID=Europe/Berlin:20251109T110000
DTEND;TZID=Europe/Berlin:20251109T170000
DTSTAMP:20260420T084458
CREATED:20250610T220418Z
LAST-MODIFIED:20250610T220501Z
UID:597-1762686000-1762707600@www.vereinsring-obernau.de
SUMMARY:Buchausstellung
DESCRIPTION:Die schon zur Tradition gewordene Buchausstellung findet am 08.11. und 09.11. im Pfarrsaal statt.
URL:https://www.vereinsring-obernau.de/veranstaltung/buchausstellung-2/
LOCATION:Pfarrsaal\, Hauptstr. 15\, Aschaffenburg\, 63743
ATTACH;FMTTYPE=image/png:https://www.vereinsring-obernau.de/wp-content/uploads/2025/05/Katholische-Pfarrgemeinde-St.-Peter-und-Paul.png
END:VEVENT
BEGIN:VEVENT
DTSTART;TZID=Europe/Berlin:20251108T143000
DTEND;TZID=Europe/Berlin:20251108T170000
DTSTAMP:20260420T084458
CREATED:20250610T220348Z
LAST-MODIFIED:20250610T220348Z
UID:591-1762612200-1762621200@www.vereinsring-obernau.de
SUMMARY:Buchausstellung
DESCRIPTION:Die schon zur Tradition gewordene Buchausstellung findet am 08.11. und 09.11. im Pfarrsaal statt.
URL:https://www.vereinsring-obernau.de/veranstaltung/buchausstellung/
LOCATION:Pfarrsaal\, Hauptstr. 15\, Aschaffenburg\, 63743
ATTACH;FMTTYPE=image/png:https://www.vereinsring-obernau.de/wp-content/uploads/2025/05/Katholische-Pfarrgemeinde-St.-Peter-und-Paul.png
END:VEVENT
BEGIN:VEVENT
DTSTART;TZID=Europe/Berlin:20251012T110000
DTEND;TZID=Europe/Berlin:20251012T190000
DTSTAMP:20260420T084458
CREATED:20250501T141908Z
LAST-MODIFIED:20250501T141908Z
UID:557-1760266800-1760295600@www.vereinsring-obernau.de
SUMMARY:5. EWWENER KERB AM BOLLENWALD
DESCRIPTION:Nach den Heimspielen der Aktiven am Samstag Kerberöffnung\nab ca. 21 Uhr mit Live Musik mit DJ!\nSonntag ab 11 Uhr Frühschoppen mit Melomania Obernau.\nFür das leibliche Wohl an beiden Tagen ist gesorgt.
URL:https://www.vereinsring-obernau.de/veranstaltung/5-ewwener-kerb-am-bollenwald-2/
LOCATION:Sportlgelände FSV Teutonia Obernau\, Bollenwaldstr. 100\, Aschaffenburg-Obernau\, 63743\, Germany
ATTACH;FMTTYPE=image/png:https://www.vereinsring-obernau.de/wp-content/uploads/2025/05/teutonia_veranstalltung.png
END:VEVENT
BEGIN:VEVENT
DTSTART;TZID=Europe/Berlin:20251011T180000
DTEND;TZID=Europe/Berlin:20251011T233000
DTSTAMP:20260420T084458
CREATED:20250501T141755Z
LAST-MODIFIED:20250501T141949Z
UID:555-1760205600-1760225400@www.vereinsring-obernau.de
SUMMARY:5. EWWENER KERB AM BOLLENWALD
DESCRIPTION:Nach den Heimspielen der Aktiven am Samstag Kerberöffnung\nab ca. 21 Uhr mit Live Musik mit DJ!\nSonntag ab 11 Uhr Frühschoppen mit Melomania Obernau.\nFür das leibliche Wohl an beiden Tagen ist gesorgt.
URL:https://www.vereinsring-obernau.de/veranstaltung/5-ewwener-kerb-am-bollenwald/
LOCATION:Sportlgelände FSV Teutonia Obernau\, Bollenwaldstr. 100\, Aschaffenburg-Obernau\, 63743\, Germany
ATTACH;FMTTYPE=image/png:https://www.vereinsring-obernau.de/wp-content/uploads/2025/05/teutonia_veranstalltung.png
END:VEVENT
END:VCALENDAR