BEGIN:VCALENDAR
VERSION:2.0
PRODID:-//Vereinsring Obernau 1961 - ECPv6.15.12.2//NONSGML v1.0//EN
CALSCALE:GREGORIAN
METHOD:PUBLISH
X-ORIGINAL-URL:https://www.vereinsring-obernau.de
X-WR-CALDESC:Veranstaltungen für Vereinsring Obernau 1961
REFRESH-INTERVAL;VALUE=DURATION:PT1H
X-Robots-Tag:noindex
X-PUBLISHED-TTL:PT1H
BEGIN:VTIMEZONE
TZID:Europe/Berlin
BEGIN:DAYLIGHT
TZOFFSETFROM:+0100
TZOFFSETTO:+0200
TZNAME:CEST
DTSTART:20250330T010000
END:DAYLIGHT
BEGIN:STANDARD
TZOFFSETFROM:+0200
TZOFFSETTO:+0100
TZNAME:CET
DTSTART:20251026T010000
END:STANDARD
BEGIN:DAYLIGHT
TZOFFSETFROM:+0100
TZOFFSETTO:+0200
TZNAME:CEST
DTSTART:20260329T010000
END:DAYLIGHT
BEGIN:STANDARD
TZOFFSETFROM:+0200
TZOFFSETTO:+0100
TZNAME:CET
DTSTART:20261025T010000
END:STANDARD
BEGIN:DAYLIGHT
TZOFFSETFROM:+0100
TZOFFSETTO:+0200
TZNAME:CEST
DTSTART:20270328T010000
END:DAYLIGHT
BEGIN:STANDARD
TZOFFSETFROM:+0200
TZOFFSETTO:+0100
TZNAME:CET
DTSTART:20271031T010000
END:STANDARD
BEGIN:DAYLIGHT
TZOFFSETFROM:+0100
TZOFFSETTO:+0200
TZNAME:CEST
DTSTART:20280326T010000
END:DAYLIGHT
BEGIN:STANDARD
TZOFFSETFROM:+0200
TZOFFSETTO:+0100
TZNAME:CET
DTSTART:20281029T010000
END:STANDARD
END:VTIMEZONE
BEGIN:VEVENT
DTSTART;TZID=Europe/Berlin:20260627T120000
DTEND;TZID=Europe/Berlin:20260627T160000
DTSTAMP:20260420T071859
CREATED:20260222T215740Z
LAST-MODIFIED:20260222T215740Z
UID:786-1782561600-1782576000@www.vereinsring-obernau.de
SUMMARY:Sommerfest Bernhard-Junker-Haus
DESCRIPTION:Jährliches Sommerfest des Seniorenheims „Bernhard-Junker-Haus“
URL:https://www.vereinsring-obernau.de/veranstaltung/sommerfest-bernhard-junker-haus/
LOCATION:Bernhard-Junker-Haus\, Neuhofstr. 11\, Aschaffenburg\, Bayern\, 63743\, Germany
ATTACH;FMTTYPE=image/png:https://www.vereinsring-obernau.de/wp-content/uploads/2025/02/event_bernhard-junker-haus.png
END:VEVENT
BEGIN:VEVENT
DTSTART;TZID=Europe/Berlin:20260628T100000
DTEND;TZID=Europe/Berlin:20260628T100000
DTSTAMP:20260420T071859
CREATED:20251026T230738Z
LAST-MODIFIED:20251123T162143Z
UID:624-1782640800-1782640800@www.vereinsring-obernau.de
SUMMARY:Patrozinium
DESCRIPTION:10.00 Uhr feierlicher Gottesdienst mit musikalische Gestaltung durch die FGB und Happy Voices\, \nanschließender Begegnung auf dem Kirchplatz (bei schlechtem Wetter im Pfarrsaal) \nFür das leibliche Wohl ist mit Steaks\, Bratwurst und Pasta (von Pater Nicola) sowie Getränken bestens gesorgt.\nHerzliche Einladung hierzu
URL:https://www.vereinsring-obernau.de/veranstaltung/patrozinium-2/
LOCATION:Katholische Kirche\, Hauptstr. 38\, Aschaffenburg\, 63743\, Germany
ATTACH;FMTTYPE=image/png:https://www.vereinsring-obernau.de/wp-content/uploads/2025/05/Katholische-Pfarrgemeinde-St.-Peter-und-Paul.png
END:VEVENT
BEGIN:VEVENT
DTSTART;TZID=Europe/Berlin:20260715T143000
DTEND;TZID=Europe/Berlin:20260715T170000
DTSTAMP:20260420T071859
CREATED:20251123T163920Z
LAST-MODIFIED:20251123T163920Z
UID:684-1784125800-1784134800@www.vereinsring-obernau.de
SUMMARY:Seniorennachmittag
DESCRIPTION:Alle Senioren sind herzlich eingeladen zu einem Vortrag des Eine-Welt-Ladens Aschaffenburg zum Thema „Schokolade fair naschen“. Natürlich gibt es wieder Kaffee und Kuchen\, Getränke und die Möglichkeit\, auch etwas vom Eine-Welt-Laden zu kaufen.
URL:https://www.vereinsring-obernau.de/veranstaltung/seniorennachmittag-3/
LOCATION:Pfarrsaal\, Hauptstr. 15\, Aschaffenburg\, 63743
ATTACH;FMTTYPE=image/png:https://www.vereinsring-obernau.de/wp-content/uploads/2025/05/Katholische-Pfarrgemeinde-St.-Peter-und-Paul.png
END:VEVENT
BEGIN:VEVENT
DTSTART;TZID=Europe/Berlin:20260719T180000
DTEND;TZID=Europe/Berlin:20260719T180000
DTSTAMP:20260420T071859
CREATED:20251123T171153Z
LAST-MODIFIED:20251123T171153Z
UID:718-1784484000-1784484000@www.vereinsring-obernau.de
SUMMARY:Geistliche Abendmusik
DESCRIPTION:Wa are Gospel – come let us sing\nMainGospelTrain
URL:https://www.vereinsring-obernau.de/veranstaltung/geistliche-abendmusik-3/
LOCATION:St.Matthäuskirche\, Matthäusstraße 10\, Aschaffenburg\, 63743\, Germany
ATTACH;FMTTYPE=image/png:https://www.vereinsring-obernau.de/wp-content/uploads/2025/06/Matthaeus_ver.png
END:VEVENT
BEGIN:VEVENT
DTSTART;TZID=Europe/Berlin:20260725T170000
DTEND;TZID=Europe/Berlin:20260725T180000
DTSTAMP:20260420T071859
CREATED:20260113T203226Z
LAST-MODIFIED:20260113T203226Z
UID:757-1784998800-1785002400@www.vereinsring-obernau.de
SUMMARY:Serenade
DESCRIPTION:Serenade – nähere Informationen folgen
URL:https://www.vereinsring-obernau.de/veranstaltung/serenade-2026/
LOCATION:Vereinsgelände Schulgasse 3\, Schulgasse 3\, Aschaffenburg\, Bayern\, 63743\, Germany
ATTACH;FMTTYPE=image/png:https://www.vereinsring-obernau.de/wp-content/uploads/2025/02/event_harmonie.png
END:VEVENT
BEGIN:VEVENT
DTSTART;TZID=Europe/Berlin:20260822T113000
DTEND;TZID=Europe/Berlin:20260824T000000
DTSTAMP:20260420T071859
CREATED:20251109T232129Z
LAST-MODIFIED:20251109T232142Z
UID:646-1787398200-1787529600@www.vereinsring-obernau.de
SUMMARY:Zu Gast bei den Segelfliegern in Obernau
DESCRIPTION:Wir freuen uns\, euch herzlich zu unserem jährlichen Fest „Zu Gast bei den Segelfliegern in Obernau“ einzuladen!\nFreut euch auf stimmungsvolle Musik\, köstliches Essen und frisch gezapftes Bier in geselliger Atmosphäre.\nFür alle Flugbegeisterten gibt es zudem die Gelegenheit\, mehr über die Fliegerei zu erfahren!
URL:https://www.vereinsring-obernau.de/veranstaltung/zu-gast-bei-den-segelfliegern-in-obernau-4/
LOCATION:Flugsportclub Möve-1951 Obernau/Main e.V.\, Altenbachstraße 29\, Aschaffenburg\, 63743
ATTACH;FMTTYPE=image/png:https://www.vereinsring-obernau.de/wp-content/uploads/2025/04/Flugsportclub-Moeve-1951.png
END:VEVENT
BEGIN:VEVENT
DTSTART;TZID=Europe/Berlin:20260906T110000
DTEND;TZID=Europe/Berlin:20260906T110000
DTSTAMP:20260420T071859
CREATED:20260113T202723Z
LAST-MODIFIED:20260113T202723Z
UID:752-1788692400-1788692400@www.vereinsring-obernau.de
SUMMARY:Weinfest
DESCRIPTION:Traditionelles Weinfest in der Schulgasse
URL:https://www.vereinsring-obernau.de/veranstaltung/weinfest_2026/
LOCATION:Vereinsgelände Schulgasse 3\, Schulgasse 3\, Aschaffenburg\, Bayern\, 63743\, Germany
ATTACH;FMTTYPE=image/png:https://www.vereinsring-obernau.de/wp-content/uploads/2025/02/event_harmonie.png
END:VEVENT
BEGIN:VEVENT
DTSTART;TZID=Europe/Berlin:20260907T150000
DTEND;TZID=Europe/Berlin:20260907T150000
DTSTAMP:20260420T071859
CREATED:20260113T202922Z
LAST-MODIFIED:20260113T202922Z
UID:755-1788793200-1788793200@www.vereinsring-obernau.de
SUMMARY:Weinfest
DESCRIPTION:Traditionelles Weinfest in der Schulgasse
URL:https://www.vereinsring-obernau.de/veranstaltung/weinfest_2026_tag2/
LOCATION:Vereinsgelände Schulgasse 3\, Schulgasse 3\, Aschaffenburg\, Bayern\, 63743\, Germany
ATTACH;FMTTYPE=image/png:https://www.vereinsring-obernau.de/wp-content/uploads/2025/02/event_harmonie.png
END:VEVENT
BEGIN:VEVENT
DTSTART;TZID=Europe/Berlin:20260912T103000
DTEND;TZID=Europe/Berlin:20260912T210000
DTSTAMP:20260420T071859
CREATED:20260318T224029Z
LAST-MODIFIED:20260318T224029Z
UID:810-1789209000-1789246800@www.vereinsring-obernau.de
SUMMARY:12. Main Echo Firmen Fußball Cup
DESCRIPTION:Main-Echo Firmen-Cup 2026\nDer 12. Main-Echo Firmen-Fußball-Cup findet am Samstag\, den 12. September 2026\, ab 10:30 Uhr auf dem Sportgelände der Teutonia Obernau statt. Das Turnier bietet nicht nur spannende Fußballspiele\, sondern auch viele Attraktionen am Spielfeldrand für Klein und Groß. Die Essens- und Getränkeverpflegung wird von der Teutonia Obernau übernomm
URL:https://www.vereinsring-obernau.de/veranstaltung/12-main-echo-firmen-fussball-cup/
LOCATION:Sportlgelände FSV Teutonia Obernau\, Bollenwaldstr. 100\, Aschaffenburg-Obernau\, 63743\, Germany
ATTACH;FMTTYPE=image/png:https://www.vereinsring-obernau.de/wp-content/uploads/2025/05/teutonia_veranstalltung.png
END:VEVENT
BEGIN:VEVENT
DTSTART;TZID=Europe/Berlin:20260913T103000
DTEND;TZID=Europe/Berlin:20260913T103000
DTSTAMP:20260420T071859
CREATED:20260318T224215Z
LAST-MODIFIED:20260318T224224Z
UID:812-1789295400-1789295400@www.vereinsring-obernau.de
SUMMARY:Main Echo Junior WM
DESCRIPTION:MAIN-ECHO JUNIOR-WM – Ein Tag voller Fußballspaß\nDie Main-Echo Junior-WM ist nicht nur ein Fußballturnier\, sondern ein Tag für die ganze Familie. Das Turnier verspricht nicht nur packende Spiele\, sondern auch eine Plattform\, auf der junge Talente aus der ganzen Region ihr Können unter Beweis stellen können. Am Sonntag\, den 13. September 2026 verwandelt sich das Gelände des FSV Teutonia Obernau in Aschaffenburg in ein wahres Fußball-Weltmeisterschafts-Paradies für junge Talente.
URL:https://www.vereinsring-obernau.de/veranstaltung/main-echo-junior-wm/
LOCATION:Sportlgelände FSV Teutonia Obernau\, Bollenwaldstr. 100\, Aschaffenburg-Obernau\, 63743\, Germany
ATTACH;FMTTYPE=image/png:https://www.vereinsring-obernau.de/wp-content/uploads/2025/05/teutonia_veranstalltung.png
END:VEVENT
BEGIN:VEVENT
DTSTART;TZID=Europe/Berlin:20260916T133000
DTEND;TZID=Europe/Berlin:20260916T133000
DTSTAMP:20260420T071859
CREATED:20251123T164157Z
LAST-MODIFIED:20251123T164157Z
UID:687-1789565400-1789565400@www.vereinsring-obernau.de
SUMMARY:Seniorenausflug zum Weingut Wengerter
DESCRIPTION:Wir möchten alle Senioren einladen\, zur Fahrt mit dem Bus zum Weingut Wengerter nach Klingenberg-Röllfeld. Herr Wengerter erzählt etwas von seinem Weingut. Danach gemütliches Beisammensein beim Häckeressen mit Musikbegleitung von Frau Bernadette Radlböck auf dem Akkordeon. \nSeniorenbusfahrt\nOrffstr. 2 a
URL:https://www.vereinsring-obernau.de/veranstaltung/seniorenausflug-zum-weingut-wengerter/
LOCATION:Bayern
ATTACH;FMTTYPE=image/png:https://www.vereinsring-obernau.de/wp-content/uploads/2025/05/Katholische-Pfarrgemeinde-St.-Peter-und-Paul.png
END:VEVENT
BEGIN:VEVENT
DTSTART;TZID=Europe/Berlin:20260920T103000
DTEND;TZID=Europe/Berlin:20260920T200000
DTSTAMP:20260420T071859
CREATED:20251208T232040Z
LAST-MODIFIED:20251208T232046Z
UID:735-1789900200-1789934400@www.vereinsring-obernau.de
SUMMARY:Oktoberfest des Musikverein Melomania Obernau
DESCRIPTION:Einladung zum Oktoberfest des Musikverein Melomania Obernau \nDer Musikverein Melomania Obernau lädt herzlich zum diesjährigen Oktoberfest am Sonntag\, 20. September 2025 ein. \nVeranstaltungsort: Hof- und Vereinsheim des Musikvereins\, Schulgasse 2\, 63743 Aschaffenburg-Obernau \nVeranstaltungsbeginn: 10:00 Uhr \nBlasmusik pur ab 11:00 Uhr \nFür das leibliche Wohl ist bestens gesorgt: \nZum Mittagstisch servieren wir unter anderem fränkische Spezialitäten wie Schäufele. \nAm Nachmittag lockt unsere Kaffee- und Kuchenbar mit einer großen Auswahl an selbstgebackenen Kuchen und Torten. \nWir freuen uns auf zahlreiche Gäste\, die gemeinsam mit uns einen stimmungsvollen Festtag bei Blasmusik und guter Bewirtung verbringe
URL:https://www.vereinsring-obernau.de/veranstaltung/oktoberfest-des-musikverein-melomania-obernau/
LOCATION:Vereinsheim in der Schulgasse 2\, Schulgasse 2\, Aschaffenburg\, Bayern\, 63743\, Germany
ATTACH;FMTTYPE=image/png:https://www.vereinsring-obernau.de/wp-content/uploads/2025/02/event_melomania.png
END:VEVENT
BEGIN:VEVENT
DTSTART;TZID=Europe/Berlin:20260920T180000
DTEND;TZID=Europe/Berlin:20260920T180000
DTSTAMP:20260420T071859
CREATED:20251123T171305Z
LAST-MODIFIED:20251123T171305Z
UID:720-1789927200-1789927200@www.vereinsring-obernau.de
SUMMARY:Geistliche Abendmusik
DESCRIPTION:Trumpet Tune
URL:https://www.vereinsring-obernau.de/veranstaltung/geistliche-abendmusik-4/
LOCATION:St.Matthäuskirche\, Matthäusstraße 10\, Aschaffenburg\, 63743\, Germany
ATTACH;FMTTYPE=image/png:https://www.vereinsring-obernau.de/wp-content/uploads/2025/06/Matthaeus_ver.png
END:VEVENT
BEGIN:VEVENT
DTSTART;TZID=Europe/Berlin:20260926T120000
DTEND;TZID=Europe/Berlin:20260926T170000
DTSTAMP:20260420T071859
CREATED:20251109T230931Z
LAST-MODIFIED:20251109T230935Z
UID:636-1790424000-1790442000@www.vereinsring-obernau.de
SUMMARY:Repaircafé - Zum Wegwerfen zu schade
DESCRIPTION:Warum soll man etwas wegwerfen\, wenn man es noch reparieren kann? Im Wanderheim treffen sich Bastler und Tüftler und versuchen die defekten Teile auf Spendenbasis zu reparieren. Einfach mal vorbeischauen. Etwaige Wartezeiten können mit belegten Brötchen oder Kaffee mit Kuchen überbrückt werden.\nWeitere Infos auf der Internetseite: www.rcab.de
URL:https://www.vereinsring-obernau.de/veranstaltung/repaircafe-zum-wegwerfen-zu-schade/
LOCATION:Wanderheim\, Heidigweg 30\, Aschaffenburg\, Bayern\, 63743\, Germany
ATTACH;FMTTYPE=image/png:https://www.vereinsring-obernau.de/wp-content/uploads/2025/02/event_wanderverein.png
ORGANIZER;CN="Wanderverein 'Edelwei%C3%9F' e.V. Obernau":MAILTO:orth@edelweiss-obernau.de
END:VEVENT
BEGIN:VEVENT
DTSTART;TZID=Europe/Berlin:20261014T143000
DTEND;TZID=Europe/Berlin:20261014T170000
DTSTAMP:20260420T071859
CREATED:20251123T164408Z
LAST-MODIFIED:20251123T164408Z
UID:691-1791988200-1791997200@www.vereinsring-obernau.de
SUMMARY:Seniorennachmittag
DESCRIPTION:Herzliche Einladung zu unserem Seniorennachmittag. Dieses Mal haben wir das Sanitätshaus Krüger vor Ort mit dem Thema:“ Kann mein Zuhause mit mir Alt werden?“ Wie gewohnt bieten wir wieder Kaffee und Kuchen an und Gelegenheit für ein kleines Schwätzchen ist bestimmt auch noch.
URL:https://www.vereinsring-obernau.de/veranstaltung/seniorennachmittag-4/
LOCATION:Pfarrsaal\, Hauptstr. 15\, Aschaffenburg\, 63743
ATTACH;FMTTYPE=image/png:https://www.vereinsring-obernau.de/wp-content/uploads/2025/05/Katholische-Pfarrgemeinde-St.-Peter-und-Paul.png
END:VEVENT
BEGIN:VEVENT
DTSTART;TZID=Europe/Berlin:20261107T143000
DTEND;TZID=Europe/Berlin:20261107T143000
DTSTAMP:20260420T071859
CREATED:20251123T161607Z
LAST-MODIFIED:20251123T161951Z
UID:661-1794061800-1794061800@www.vereinsring-obernau.de
SUMMARY:Buchaustellung
DESCRIPTION:Die Bücherei veranstaltet eine Buchausstellung von 07.11.-08.11.26 im Pfarrsaal mit Kaffee und Kuchen. Ein kleiner Weihnachtsbasar lädt zum einkaufen ein.
URL:https://www.vereinsring-obernau.de/veranstaltung/buchaustellung/
LOCATION:Pfarrsaal\, Hauptstr. 15\, Aschaffenburg\, 63743
ATTACH;FMTTYPE=image/png:https://www.vereinsring-obernau.de/wp-content/uploads/2025/05/Katholische-Pfarrgemeinde-St.-Peter-und-Paul.png
END:VEVENT
BEGIN:VEVENT
DTSTART;TZID=Europe/Berlin:20261108T110000
DTEND;TZID=Europe/Berlin:20261108T170000
DTSTAMP:20260420T071859
CREATED:20251123T161928Z
LAST-MODIFIED:20251123T161928Z
UID:663-1794135600-1794157200@www.vereinsring-obernau.de
SUMMARY:Buchaustellung
DESCRIPTION:Die Bücherei veranstaltet eine Buchausstellung von 07.11.-08.11.26 im Pfarrsaal mit Kaffee und Kuchen. Ein kleiner Weihnachtsbasar lädt zum einkaufen ein.
URL:https://www.vereinsring-obernau.de/veranstaltung/buchaustellung-2/
LOCATION:Pfarrsaal\, Hauptstr. 15\, Aschaffenburg\, 63743
ATTACH;FMTTYPE=image/png:https://www.vereinsring-obernau.de/wp-content/uploads/2025/05/Katholische-Pfarrgemeinde-St.-Peter-und-Paul.png
END:VEVENT
BEGIN:VEVENT
DTSTART;TZID=Europe/Berlin:20261111T170000
DTEND;TZID=Europe/Berlin:20261111T170000
DTSTAMP:20260420T071859
CREATED:20260126T000038Z
LAST-MODIFIED:20260125T234843Z
UID:694-1794416400-1794416400@www.vereinsring-obernau.de
SUMMARY:St. Martinsumzug
DESCRIPTION:Wir beginnen den Martinsumzug vom Kinderhaus zusammen mit der Kirchengemeinde St. Peter und Paul am Kinderhaus und laufen zur Kirche. Dort wird eine kleine Segensfeier stattfinden mit anschließender Bewirtung auf dem Kirchplatz. Hierzu herzliche Einladung.
URL:https://www.vereinsring-obernau.de/veranstaltung/st-martinsumzug/
LOCATION:Katholische Kirche\, Hauptstr. 38\, Aschaffenburg\, 63743\, Germany
ATTACH;FMTTYPE=image/png:https://www.vereinsring-obernau.de/wp-content/uploads/2025/05/Katholische-Pfarrgemeinde-St.-Peter-und-Paul.png
END:VEVENT
BEGIN:VEVENT
DTSTART;TZID=Europe/Berlin:20261115T180000
DTEND;TZID=Europe/Berlin:20261115T180000
DTSTAMP:20260420T071859
CREATED:20251123T171432Z
LAST-MODIFIED:20251203T162028Z
UID:722-1794765600-1794765600@www.vereinsring-obernau.de
SUMMARY:Geistliche Abendmusik
DESCRIPTION:Handglocken – Klänge die verzaubern
URL:https://www.vereinsring-obernau.de/veranstaltung/geistliche-abendmusik-20261115/
LOCATION:St.Matthäuskirche\, Matthäusstraße 10\, Aschaffenburg\, 63743\, Germany
ATTACH;FMTTYPE=image/png:https://www.vereinsring-obernau.de/wp-content/uploads/2025/06/Matthaeus_ver.png
END:VEVENT
BEGIN:VEVENT
DTSTART;TZID=Europe/Berlin:20261128T140000
DTEND;TZID=Europe/Berlin:20261128T183000
DTSTAMP:20260420T071859
CREATED:20260330T213845Z
LAST-MODIFIED:20260330T213856Z
UID:817-1795874400-1795890600@www.vereinsring-obernau.de
SUMMARY:Adventsmarkt
DESCRIPTION:Genießen Sie bei Punsch\, Waffeln und anderen Köstlichkeiten das vorweihnachtliche Flair auf dem Gelände des Kinderhaues in Obernau. Viele Aussteller präsentieren ihre kreative Kunst und laden zum Bummeln ein.
URL:https://www.vereinsring-obernau.de/veranstaltung/adventsmarkt-2026/
LOCATION:Kath. Kinderhaus St. Peter Paul\, Mozartstraße 5\, Aschaffenburg Obernau\, 63743\, Germany
ATTACH;FMTTYPE=image/png:https://www.vereinsring-obernau.de/wp-content/uploads/2025/05/Kath.-Kinderhaus-St.-Peter-Paul__.png
END:VEVENT
BEGIN:VEVENT
DTSTART;TZID=Europe/Berlin:20261206T100000
DTEND;TZID=Europe/Berlin:20261206T120000
DTSTAMP:20260420T071859
CREATED:20260222T220540Z
LAST-MODIFIED:20260222T220540Z
UID:791-1796551200-1796558400@www.vereinsring-obernau.de
SUMMARY:Liederkranz Gailbach im Bernhard-Junker-Haus
DESCRIPTION:Musikveranstaltung des Liederkranz Gailbach
URL:https://www.vereinsring-obernau.de/veranstaltung/liederkranz-gailbach-im-bernhard-junker-haus-06-12-26/
LOCATION:Bernhard-Junker-Haus\, Neuhofstr. 11\, Aschaffenburg\, Bayern\, 63743\, Germany
ATTACH;FMTTYPE=image/png:https://www.vereinsring-obernau.de/wp-content/uploads/2025/02/event_bernhard-junker-haus.png
END:VEVENT
BEGIN:VEVENT
DTSTART;TZID=Europe/Berlin:20261216T143000
DTEND;TZID=Europe/Berlin:20261216T173000
DTSTAMP:20260420T071859
CREATED:20251123T164934Z
LAST-MODIFIED:20251123T164934Z
UID:697-1797431400-1797442200@www.vereinsring-obernau.de
SUMMARY:Seniorenweihnachtsfeier
DESCRIPTION:Zu unserer Seniorenweihnachtsfeier möchten wir herzlich einladen. Wir können den Nikolaus erwarten und die Veeh-Harfen bieten uns besinnliche Musik. Bei Weihnachtsliedern und Kaffeeduft darf gefeiert und getratscht werden.
URL:https://www.vereinsring-obernau.de/veranstaltung/seniorenweihnachtsfeier/
LOCATION:Pfarrsaal\, Hauptstr. 15\, Aschaffenburg\, 63743
ATTACH;FMTTYPE=image/png:https://www.vereinsring-obernau.de/wp-content/uploads/2025/05/Katholische-Pfarrgemeinde-St.-Peter-und-Paul.png
END:VEVENT
BEGIN:VEVENT
DTSTART;TZID=Europe/Berlin:20261226T180000
DTEND;TZID=Europe/Berlin:20261226T180000
DTSTAMP:20260420T071859
CREATED:20251123T171652Z
LAST-MODIFIED:20251203T162003Z
UID:724-1798308000-1798308000@www.vereinsring-obernau.de
SUMMARY:Geistliche Abendmusik
DESCRIPTION:Musica pastoralis\nOrgel solo
URL:https://www.vereinsring-obernau.de/veranstaltung/geistliche-abendmusik-20261226/
LOCATION:St.Matthäuskirche\, Matthäusstraße 10\, Aschaffenburg\, 63743\, Germany
ATTACH;FMTTYPE=image/png:https://www.vereinsring-obernau.de/wp-content/uploads/2025/06/Matthaeus_ver.png
END:VEVENT
BEGIN:VEVENT
DTSTART;TZID=Europe/Berlin:20270116T193000
DTEND;TZID=Europe/Berlin:20270116T233000
DTSTAMP:20260420T071859
CREATED:20251208T232425Z
LAST-MODIFIED:20251208T232431Z
UID:739-1800127800-1800142200@www.vereinsring-obernau.de
SUMMARY:Böhmischer Abend in der Mehrzweckhalle in Obernau
DESCRIPTION:Böhmischer Abend – Stimmungsvolle Blasmusik – Details zur auftretenden Blaskapelle folgen
URL:https://www.vereinsring-obernau.de/veranstaltung/boehmischer-abend-in-der-mehrzweckhalle-in-obernau/
LOCATION:Mehrzweckhalle Obernau\, Bahnhofstr. 61\, Aschaffenburg\, Bayern\, 63743\, Germany
ATTACH;FMTTYPE=image/png:https://www.vereinsring-obernau.de/wp-content/uploads/2025/02/event_melomania.png
END:VEVENT
BEGIN:VEVENT
DTSTART;TZID=Europe/Berlin:20270321T100000
DTEND;TZID=Europe/Berlin:20270321T100000
DTSTAMP:20260420T071859
CREATED:20260414T222435Z
LAST-MODIFIED:20260414T222435Z
UID:828-1805623200-1805623200@www.vereinsring-obernau.de
SUMMARY:Misereor Fastenessen
DESCRIPTION:Um 10.00 Uhr beginnt es mit einer Heiligen Messe\nanschließend Fastenessen im Pfarrsaal\, Hauptstraße 15 in Obernau.\nWir bieten euch Eintopf oder Penne Mediterraneo an. Im Anschluss gibt es Kaffee und Kuchen\,\ngerne auch zum mitnehmen. Hierzu möchten wir Sie herzlichst einladen.
URL:https://www.vereinsring-obernau.de/veranstaltung/misereor-fastenessen-2027/
LOCATION:Pfarrsaal\, Hauptstr. 15\, Aschaffenburg\, 63743
ATTACH;FMTTYPE=image/png:https://www.vereinsring-obernau.de/wp-content/uploads/2025/05/Katholische-Pfarrgemeinde-St.-Peter-und-Paul.png
END:VEVENT
BEGIN:VEVENT
DTSTART;TZID=Europe/Berlin:20270326T100000
DTEND;TZID=Europe/Berlin:20270326T100000
DTSTAMP:20260420T071859
CREATED:20260413T221729Z
LAST-MODIFIED:20260413T221729Z
UID:823-1806055200-1806055200@www.vereinsring-obernau.de
SUMMARY:Kreuzweg zur Obernauer Kapelle
DESCRIPTION:Herzliche Einladung zum Karfreitagskreuzweg auf die Kapelle. Um 10.00 Uhr startet die Prozession an der Hubertuskapelle.
URL:https://www.vereinsring-obernau.de/veranstaltung/kreuzweg-zur-obernauer-kapelle/
LOCATION:Obernauer Kapelle\, Kreuzweg\, Aschaffenburg-Obernau\, 63743\, Germany
ATTACH;FMTTYPE=image/png:https://www.vereinsring-obernau.de/wp-content/uploads/2025/05/Katholische-Pfarrgemeinde-St.-Peter-und-Paul.png
END:VEVENT
END:VCALENDAR