BEGIN:VCALENDAR
VERSION:2.0
PRODID:-//Vereinsring Obernau 1961 - ECPv6.15.12.2//NONSGML v1.0//EN
CALSCALE:GREGORIAN
METHOD:PUBLISH
X-WR-CALNAME:Vereinsring Obernau 1961
X-ORIGINAL-URL:https://www.vereinsring-obernau.de
X-WR-CALDESC:Veranstaltungen für Vereinsring Obernau 1961
REFRESH-INTERVAL;VALUE=DURATION:PT1H
X-Robots-Tag:noindex
X-PUBLISHED-TTL:PT1H
BEGIN:VTIMEZONE
TZID:Europe/Berlin
BEGIN:DAYLIGHT
TZOFFSETFROM:+0100
TZOFFSETTO:+0200
TZNAME:CEST
DTSTART:20240331T010000
END:DAYLIGHT
BEGIN:STANDARD
TZOFFSETFROM:+0200
TZOFFSETTO:+0100
TZNAME:CET
DTSTART:20241027T010000
END:STANDARD
BEGIN:DAYLIGHT
TZOFFSETFROM:+0100
TZOFFSETTO:+0200
TZNAME:CEST
DTSTART:20250330T010000
END:DAYLIGHT
BEGIN:STANDARD
TZOFFSETFROM:+0200
TZOFFSETTO:+0100
TZNAME:CET
DTSTART:20251026T010000
END:STANDARD
BEGIN:DAYLIGHT
TZOFFSETFROM:+0100
TZOFFSETTO:+0200
TZNAME:CEST
DTSTART:20260329T010000
END:DAYLIGHT
BEGIN:STANDARD
TZOFFSETFROM:+0200
TZOFFSETTO:+0100
TZNAME:CET
DTSTART:20261025T010000
END:STANDARD
END:VTIMEZONE
BEGIN:VEVENT
DTSTART;TZID=Europe/Berlin:20250601T110000
DTEND;TZID=Europe/Berlin:20250601T110000
DTSTAMP:20260423T000314
CREATED:20250518T213032Z
LAST-MODIFIED:20250518T213038Z
UID:569-1748775600-1748775600@www.vereinsring-obernau.de
SUMMARY:Sternwallfahrt zur Obernauer Kapelle
DESCRIPTION:Sternwallfahrt des Pastoralen Raumes Aschaffenburg zur Obernauer Kapelle\nMessfeier um 11 Uhr
URL:https://www.vereinsring-obernau.de/veranstaltung/sternwallfahrt-zur-obernauer-kapelle/
LOCATION:Obernauer Kapelle\, Kreuzweg\, Aschaffenburg-Obernau\, 63743\, Germany
ATTACH;FMTTYPE=image/png:https://www.vereinsring-obernau.de/wp-content/uploads/2025/05/Katholische-Pfarrgemeinde-St.-Peter-und-Paul.png
END:VEVENT
BEGIN:VEVENT
DTSTART;TZID=Europe/Berlin:20250621T180000
DTEND;TZID=Europe/Berlin:20250621T230000
DTSTAMP:20260423T000314
CREATED:20250214T093441Z
LAST-MODIFIED:20250318T121058Z
UID:380-1750528800-1750546800@www.vereinsring-obernau.de
SUMMARY:Sonnwendfeuer
DESCRIPTION:Feuer Frei beim MCO!
URL:https://www.vereinsring-obernau.de/veranstaltung/sonnwendfeuer/
LOCATION:MCO Clubgelände/Vereinsheim\, Mainfeldstr. 100\, Aschaffenburg\, Bayern\, 63743
ATTACH;FMTTYPE=image/png:https://www.vereinsring-obernau.de/wp-content/uploads/2025/02/event_mco.png
END:VEVENT
BEGIN:VEVENT
DTSTART;TZID=Europe/Berlin:20250622T103000
DTEND;TZID=Europe/Berlin:20250622T210000
DTSTAMP:20260423T000314
CREATED:20250324T215158Z
LAST-MODIFIED:20250401T113016Z
UID:465-1750588200-1750626000@www.vereinsring-obernau.de
SUMMARY:75 Jahre Siedlergemeinschaft Obernau
DESCRIPTION:Grillparty im Siedlerheim
URL:https://www.vereinsring-obernau.de/veranstaltung/75-jahre-siedlergemeinschaft-obernau/
LOCATION:Siedlerheim\, Mainfeldstr. 90\, Aschaffenburg\, 63743\, Germany
ATTACH;FMTTYPE=image/jpeg:https://www.vereinsring-obernau.de/wp-content/uploads/2025/04/siedlergemeinschaft_1000x667px.jpg
END:VEVENT
BEGIN:VEVENT
DTSTART;TZID=Europe/Berlin:20250623T150000
DTEND;TZID=Europe/Berlin:20250623T210000
DTSTAMP:20260423T000314
CREATED:20250324T215501Z
LAST-MODIFIED:20250401T112954Z
UID:472-1750690800-1750712400@www.vereinsring-obernau.de
SUMMARY:75 Jahre Siedlergemeinschaft Obernau
DESCRIPTION:Grillparty im Siedlerheim
URL:https://www.vereinsring-obernau.de/veranstaltung/75-jahre-siedlergemeinschaft-obernau-2/
LOCATION:Siedlerheim\, Mainfeldstr. 90\, Aschaffenburg\, 63743\, Germany
ATTACH;FMTTYPE=image/jpeg:https://www.vereinsring-obernau.de/wp-content/uploads/2025/04/siedlergemeinschaft_1000x667px.jpg
END:VEVENT
BEGIN:VEVENT
DTSTART;TZID=Europe/Berlin:20250628T130000
DTEND;TZID=Europe/Berlin:20250628T130000
DTSTAMP:20260423T000314
CREATED:20250214T093744Z
LAST-MODIFIED:20250428T203749Z
UID:384-1751115600-1751115600@www.vereinsring-obernau.de
SUMMARY:125 Jahre Turnverein Obernau 1900 e.V.
DESCRIPTION:
URL:https://www.vereinsring-obernau.de/veranstaltung/125-jahre-turnverein-obernau-1900-e-v-2/
LOCATION:TV Obernau Vereinsgelände\, Bahnhofstr. 63\, Aschaffenburg\, Bayern\, 63743\, Germany
ATTACH;FMTTYPE=image/png:https://www.vereinsring-obernau.de/wp-content/uploads/2025/02/event_tv-obernau.png
END:VEVENT
BEGIN:VEVENT
DTSTART;TZID=Europe/Berlin:20250629T100000
DTEND;TZID=Europe/Berlin:20250629T100000
DTSTAMP:20260423T000314
CREATED:20250610T215113Z
LAST-MODIFIED:20250610T215113Z
UID:582-1751191200-1751191200@www.vereinsring-obernau.de
SUMMARY:Patrozinium
DESCRIPTION:Festgottesdienst zum Patrozinium mit anschließender Begegnung auf dem Kirchplatz.\nFür das leibliche Wohl ist mit Steaks\, Bratwurst und Pasta und Getränken gesorgt.
URL:https://www.vereinsring-obernau.de/veranstaltung/patrozinium/
LOCATION:Katholische Kirche\, Hauptstr. 38\, Aschaffenburg\, 63743\, Germany
ATTACH;FMTTYPE=image/png:https://www.vereinsring-obernau.de/wp-content/uploads/2025/05/Katholische-Pfarrgemeinde-St.-Peter-und-Paul.png
END:VEVENT
END:VCALENDAR