BEGIN:VCALENDAR
VERSION:2.0
PRODID:-//Vereinsring Obernau 1961 - ECPv6.15.12.2//NONSGML v1.0//EN
CALSCALE:GREGORIAN
METHOD:PUBLISH
X-ORIGINAL-URL:https://www.vereinsring-obernau.de
X-WR-CALDESC:Veranstaltungen für Vereinsring Obernau 1961
REFRESH-INTERVAL;VALUE=DURATION:PT1H
X-Robots-Tag:noindex
X-PUBLISHED-TTL:PT1H
BEGIN:VTIMEZONE
TZID:Europe/Berlin
BEGIN:DAYLIGHT
TZOFFSETFROM:+0100
TZOFFSETTO:+0200
TZNAME:CEST
DTSTART:20240331T010000
END:DAYLIGHT
BEGIN:STANDARD
TZOFFSETFROM:+0200
TZOFFSETTO:+0100
TZNAME:CET
DTSTART:20241027T010000
END:STANDARD
BEGIN:DAYLIGHT
TZOFFSETFROM:+0100
TZOFFSETTO:+0200
TZNAME:CEST
DTSTART:20250330T010000
END:DAYLIGHT
BEGIN:STANDARD
TZOFFSETFROM:+0200
TZOFFSETTO:+0100
TZNAME:CET
DTSTART:20251026T010000
END:STANDARD
BEGIN:DAYLIGHT
TZOFFSETFROM:+0100
TZOFFSETTO:+0200
TZNAME:CEST
DTSTART:20260329T010000
END:DAYLIGHT
BEGIN:STANDARD
TZOFFSETFROM:+0200
TZOFFSETTO:+0100
TZNAME:CET
DTSTART:20261025T010000
END:STANDARD
END:VTIMEZONE
BEGIN:VEVENT
DTSTART;TZID=Europe/Berlin:20251011T180000
DTEND;TZID=Europe/Berlin:20251011T233000
DTSTAMP:20260422T173123
CREATED:20250501T141755Z
LAST-MODIFIED:20250501T141949Z
UID:555-1760205600-1760225400@www.vereinsring-obernau.de
SUMMARY:5. EWWENER KERB AM BOLLENWALD
DESCRIPTION:Nach den Heimspielen der Aktiven am Samstag Kerberöffnung\nab ca. 21 Uhr mit Live Musik mit DJ!\nSonntag ab 11 Uhr Frühschoppen mit Melomania Obernau.\nFür das leibliche Wohl an beiden Tagen ist gesorgt.
URL:https://www.vereinsring-obernau.de/veranstaltung/5-ewwener-kerb-am-bollenwald/
LOCATION:Sportlgelände FSV Teutonia Obernau\, Bollenwaldstr. 100\, Aschaffenburg-Obernau\, 63743\, Germany
ATTACH;FMTTYPE=image/png:https://www.vereinsring-obernau.de/wp-content/uploads/2025/05/teutonia_veranstalltung.png
END:VEVENT
BEGIN:VEVENT
DTSTART;TZID=Europe/Berlin:20251012T110000
DTEND;TZID=Europe/Berlin:20251012T190000
DTSTAMP:20260422T173123
CREATED:20250501T141908Z
LAST-MODIFIED:20250501T141908Z
UID:557-1760266800-1760295600@www.vereinsring-obernau.de
SUMMARY:5. EWWENER KERB AM BOLLENWALD
DESCRIPTION:Nach den Heimspielen der Aktiven am Samstag Kerberöffnung\nab ca. 21 Uhr mit Live Musik mit DJ!\nSonntag ab 11 Uhr Frühschoppen mit Melomania Obernau.\nFür das leibliche Wohl an beiden Tagen ist gesorgt.
URL:https://www.vereinsring-obernau.de/veranstaltung/5-ewwener-kerb-am-bollenwald-2/
LOCATION:Sportlgelände FSV Teutonia Obernau\, Bollenwaldstr. 100\, Aschaffenburg-Obernau\, 63743\, Germany
ATTACH;FMTTYPE=image/png:https://www.vereinsring-obernau.de/wp-content/uploads/2025/05/teutonia_veranstalltung.png
END:VEVENT
END:VCALENDAR