BEGIN:VCALENDAR
VERSION:2.0
PRODID:-//Vereinsring Obernau 1961 - ECPv6.15.12.2//NONSGML v1.0//EN
CALSCALE:GREGORIAN
METHOD:PUBLISH
X-WR-CALNAME:Vereinsring Obernau 1961
X-ORIGINAL-URL:https://www.vereinsring-obernau.de
X-WR-CALDESC:Veranstaltungen für Vereinsring Obernau 1961
REFRESH-INTERVAL;VALUE=DURATION:PT1H
X-Robots-Tag:noindex
X-PUBLISHED-TTL:PT1H
BEGIN:VTIMEZONE
TZID:Europe/Berlin
BEGIN:DAYLIGHT
TZOFFSETFROM:+0100
TZOFFSETTO:+0200
TZNAME:CEST
DTSTART:20250330T010000
END:DAYLIGHT
BEGIN:STANDARD
TZOFFSETFROM:+0200
TZOFFSETTO:+0100
TZNAME:CET
DTSTART:20251026T010000
END:STANDARD
BEGIN:DAYLIGHT
TZOFFSETFROM:+0100
TZOFFSETTO:+0200
TZNAME:CEST
DTSTART:20260329T010000
END:DAYLIGHT
BEGIN:STANDARD
TZOFFSETFROM:+0200
TZOFFSETTO:+0100
TZNAME:CET
DTSTART:20261025T010000
END:STANDARD
BEGIN:DAYLIGHT
TZOFFSETFROM:+0100
TZOFFSETTO:+0200
TZNAME:CEST
DTSTART:20270328T010000
END:DAYLIGHT
BEGIN:STANDARD
TZOFFSETFROM:+0200
TZOFFSETTO:+0100
TZNAME:CET
DTSTART:20271031T010000
END:STANDARD
END:VTIMEZONE
BEGIN:VEVENT
DTSTART;TZID=Europe/Berlin:20261107T143000
DTEND;TZID=Europe/Berlin:20261107T143000
DTSTAMP:20260422T193403
CREATED:20251123T161607Z
LAST-MODIFIED:20251123T161951Z
UID:661-1794061800-1794061800@www.vereinsring-obernau.de
SUMMARY:Buchaustellung
DESCRIPTION:Die Bücherei veranstaltet eine Buchausstellung von 07.11.-08.11.26 im Pfarrsaal mit Kaffee und Kuchen. Ein kleiner Weihnachtsbasar lädt zum einkaufen ein.
URL:https://www.vereinsring-obernau.de/veranstaltung/buchaustellung/
LOCATION:Pfarrsaal\, Hauptstr. 15\, Aschaffenburg\, 63743
ATTACH;FMTTYPE=image/png:https://www.vereinsring-obernau.de/wp-content/uploads/2025/05/Katholische-Pfarrgemeinde-St.-Peter-und-Paul.png
END:VEVENT
BEGIN:VEVENT
DTSTART;TZID=Europe/Berlin:20261108T110000
DTEND;TZID=Europe/Berlin:20261108T170000
DTSTAMP:20260422T193403
CREATED:20251123T161928Z
LAST-MODIFIED:20251123T161928Z
UID:663-1794135600-1794157200@www.vereinsring-obernau.de
SUMMARY:Buchaustellung
DESCRIPTION:Die Bücherei veranstaltet eine Buchausstellung von 07.11.-08.11.26 im Pfarrsaal mit Kaffee und Kuchen. Ein kleiner Weihnachtsbasar lädt zum einkaufen ein.
URL:https://www.vereinsring-obernau.de/veranstaltung/buchaustellung-2/
LOCATION:Pfarrsaal\, Hauptstr. 15\, Aschaffenburg\, 63743
ATTACH;FMTTYPE=image/png:https://www.vereinsring-obernau.de/wp-content/uploads/2025/05/Katholische-Pfarrgemeinde-St.-Peter-und-Paul.png
END:VEVENT
BEGIN:VEVENT
DTSTART;TZID=Europe/Berlin:20261111T170000
DTEND;TZID=Europe/Berlin:20261111T170000
DTSTAMP:20260422T193403
CREATED:20260126T000038Z
LAST-MODIFIED:20260125T234843Z
UID:694-1794416400-1794416400@www.vereinsring-obernau.de
SUMMARY:St. Martinsumzug
DESCRIPTION:Wir beginnen den Martinsumzug vom Kinderhaus zusammen mit der Kirchengemeinde St. Peter und Paul am Kinderhaus und laufen zur Kirche. Dort wird eine kleine Segensfeier stattfinden mit anschließender Bewirtung auf dem Kirchplatz. Hierzu herzliche Einladung.
URL:https://www.vereinsring-obernau.de/veranstaltung/st-martinsumzug/
LOCATION:Katholische Kirche\, Hauptstr. 38\, Aschaffenburg\, 63743\, Germany
ATTACH;FMTTYPE=image/png:https://www.vereinsring-obernau.de/wp-content/uploads/2025/05/Katholische-Pfarrgemeinde-St.-Peter-und-Paul.png
END:VEVENT
BEGIN:VEVENT
DTSTART;TZID=Europe/Berlin:20261115T180000
DTEND;TZID=Europe/Berlin:20261115T180000
DTSTAMP:20260422T193403
CREATED:20251123T171432Z
LAST-MODIFIED:20251203T162028Z
UID:722-1794765600-1794765600@www.vereinsring-obernau.de
SUMMARY:Geistliche Abendmusik
DESCRIPTION:Handglocken – Klänge die verzaubern
URL:https://www.vereinsring-obernau.de/veranstaltung/geistliche-abendmusik-20261115/
LOCATION:St.Matthäuskirche\, Matthäusstraße 10\, Aschaffenburg\, 63743\, Germany
ATTACH;FMTTYPE=image/png:https://www.vereinsring-obernau.de/wp-content/uploads/2025/06/Matthaeus_ver.png
END:VEVENT
BEGIN:VEVENT
DTSTART;TZID=Europe/Berlin:20261128T140000
DTEND;TZID=Europe/Berlin:20261128T183000
DTSTAMP:20260422T193403
CREATED:20260330T213845Z
LAST-MODIFIED:20260330T213856Z
UID:817-1795874400-1795890600@www.vereinsring-obernau.de
SUMMARY:Adventsmarkt
DESCRIPTION:Genießen Sie bei Punsch\, Waffeln und anderen Köstlichkeiten das vorweihnachtliche Flair auf dem Gelände des Kinderhaues in Obernau. Viele Aussteller präsentieren ihre kreative Kunst und laden zum Bummeln ein.
URL:https://www.vereinsring-obernau.de/veranstaltung/adventsmarkt-2026/
LOCATION:Kath. Kinderhaus St. Peter Paul\, Mozartstraße 5\, Aschaffenburg Obernau\, 63743\, Germany
ATTACH;FMTTYPE=image/png:https://www.vereinsring-obernau.de/wp-content/uploads/2025/05/Kath.-Kinderhaus-St.-Peter-Paul__.png
END:VEVENT
END:VCALENDAR